BEGIN:VCALENDAR
VERSION:2.0
PRODID:-//ACPRI - ECPv6.15.19//NONSGML v1.0//EN
CALSCALE:GREGORIAN
METHOD:PUBLISH
X-WR-CALNAME:ACPRI
X-ORIGINAL-URL:https://acpri.cat/es/
X-WR-CALDESC:Eventos para ACPRI
REFRESH-INTERVAL;VALUE=DURATION:PT1H
X-Robots-Tag:noindex
X-PUBLISHED-TTL:PT1H
BEGIN:VTIMEZONE
TZID:Europe/Madrid
BEGIN:DAYLIGHT
TZOFFSETFROM:+0100
TZOFFSETTO:+0200
TZNAME:CEST
DTSTART:20140330T010000
END:DAYLIGHT
BEGIN:STANDARD
TZOFFSETFROM:+0200
TZOFFSETTO:+0100
TZNAME:CET
DTSTART:20141026T010000
END:STANDARD
BEGIN:DAYLIGHT
TZOFFSETFROM:+0100
TZOFFSETTO:+0200
TZNAME:CEST
DTSTART:20150329T010000
END:DAYLIGHT
BEGIN:STANDARD
TZOFFSETFROM:+0200
TZOFFSETTO:+0100
TZNAME:CET
DTSTART:20151025T010000
END:STANDARD
BEGIN:DAYLIGHT
TZOFFSETFROM:+0100
TZOFFSETTO:+0200
TZNAME:CEST
DTSTART:20160327T010000
END:DAYLIGHT
BEGIN:STANDARD
TZOFFSETFROM:+0200
TZOFFSETTO:+0100
TZNAME:CET
DTSTART:20161030T010000
END:STANDARD
END:VTIMEZONE
BEGIN:VEVENT
DTSTART;TZID=Europe/Madrid:20150421T000000
DTEND;TZID=Europe/Madrid:20150421T020000
DTSTAMP:20260420T024957
CREATED:20150420T220000Z
LAST-MODIFIED:20210316T142935Z
UID:18693-1429574400-1429581600@acpri.cat
SUMMARY:VI Jornadas de Protocolo de Yecla -21 a 24 de abril-
DESCRIPTION:p>Desde la Comissió de Formación de ACPRI informan de las VI Jornadas de Protocolo de Yeclar que tendran lugar en esta localidad murciana del 21 al 24 de abril de 2015. \nEn estas jornadas participará nuestro presidente y jefe de protocolo del Ayuntamiento de Terrassa\, Josep Solà. \nINFORMACIÓN (para visualizar la pagina se necesita acceder con los datos de asociado)
URL:https://acpri.cat/es/event/vi-jornadas-de-protocolo-de-yecla-21-a-24-de-abril/
CATEGORIES:Otras
END:VEVENT
BEGIN:VEVENT
DTSTART;TZID=Europe/Madrid:20150422T090000
DTEND;TZID=Europe/Madrid:20150422T110000
DTSTAMP:20260420T024957
CREATED:20150422T070000Z
LAST-MODIFIED:20210316T142933Z
UID:18691-1429693200-1429700400@acpri.cat
SUMMARY:IV Jornadas Pontevedra - Curso Comunicación y Protocolo XV
DESCRIPTION:p>Desde la Comisión de Formación de ACPRI informan de las IV Jornadas Internacionales de Comunicación Institucional e Imagen Pública. Curso Complementario de Comunicación y Protocolo XV que se celebrará en Pontevedra los días 22 y 23 de abril de 2015. \nLa matricula es gratuïta y la podeis realizar en www.bubela.uvigo.es
URL:https://acpri.cat/es/event/iv-jornadas-pontevedra-curso-comunicacion-y-protocolo-xv/
CATEGORIES:Otras
END:VEVENT
BEGIN:VEVENT
DTSTART;TZID=Europe/Madrid:20150429T190000
DTEND;TZID=Europe/Madrid:20150429T210000
DTSTAMP:20260420T024958
CREATED:20150429T170000Z
LAST-MODIFIED:20210316T142932Z
UID:18689-1430334000-1430341200@acpri.cat
SUMMARY:Debate ACCIEP: Participación Ciudadana y Gobierno Abierto
DESCRIPTION:p>La Asociación Catalana de Comunicación\, Investigación y Estrategia políticas (ACCIEP)\, ha organizado este acto el próximo miércoles 29 de abril de 7 a 9 de la noche en la sala de actos del Casal Pere Quart de Sabadell (Rambla\, 69) \nSe trata del debate Participación Ciudadana y Gobierno Abierto.
URL:https://acpri.cat/es/event/debate-acciep-participacion-ciudadana-y-gobierno-abierto/
CATEGORIES:Otras
ATTACH;FMTTYPE=image/jpeg:https://acpri.cat/wp-content/uploads/2018/09/activitats223.jpg
END:VEVENT
END:VCALENDAR