BEGIN:VCALENDAR
VERSION:2.0
PRODID:-//ACPRI - ECPv6.15.20//NONSGML v1.0//EN
CALSCALE:GREGORIAN
METHOD:PUBLISH
X-ORIGINAL-URL:https://acpri.cat/es/
X-WR-CALDESC:Eventos para ACPRI
REFRESH-INTERVAL;VALUE=DURATION:PT1H
X-Robots-Tag:noindex
X-PUBLISHED-TTL:PT1H
BEGIN:VTIMEZONE
TZID:Europe/Madrid
BEGIN:DAYLIGHT
TZOFFSETFROM:+0100
TZOFFSETTO:+0200
TZNAME:CEST
DTSTART:20100328T010000
END:DAYLIGHT
BEGIN:STANDARD
TZOFFSETFROM:+0200
TZOFFSETTO:+0100
TZNAME:CET
DTSTART:20101031T010000
END:STANDARD
BEGIN:DAYLIGHT
TZOFFSETFROM:+0100
TZOFFSETTO:+0200
TZNAME:CEST
DTSTART:20110327T010000
END:DAYLIGHT
BEGIN:STANDARD
TZOFFSETFROM:+0200
TZOFFSETTO:+0100
TZNAME:CET
DTSTART:20111030T010000
END:STANDARD
BEGIN:DAYLIGHT
TZOFFSETFROM:+0100
TZOFFSETTO:+0200
TZNAME:CEST
DTSTART:20120325T010000
END:DAYLIGHT
BEGIN:STANDARD
TZOFFSETFROM:+0200
TZOFFSETTO:+0100
TZNAME:CET
DTSTART:20121028T010000
END:STANDARD
END:VTIMEZONE
BEGIN:VEVENT
DTSTART;TZID=Europe/Madrid:20110111T093000
DTEND;TZID=Europe/Madrid:20110111T113000
DTSTAMP:20260424T050550
CREATED:20110111T083000Z
LAST-MODIFIED:20210316T143156Z
UID:18899-1294738200-1294745400@acpri.cat
SUMMARY:Inicio curso: PIMES. administración local igual a relaciones institucionales
DESCRIPTION:p>Desde la comisión de formación os informamos que a partir del dia 11 de Enero iniciamos en la sede de PIMEC el curso "Pimes. Administración local igual a Relaciones institucionales "  \nSe trata de un curso subvencionado y por lo tanto gratuito para trabajadores y personas en situación de paro.  \nPodeis ver el programa en estelink: http://web.pimec.org/ca/avantatges/formacio/cataleg/AF0552 \nPara formalizar la inscripción debeis enviar un mail a formacio@acpri.cat y os enviaremos el formulario de inscripción.
URL:https://acpri.cat/es/event/inicio-curso-pimes-administracion-local-igual-a-relaciones-institucionales/
CATEGORIES:Otras
ATTACH;FMTTYPE=image/jpeg:https://acpri.cat/wp-content/uploads/2018/09/activitats111.jpg
END:VEVENT
END:VCALENDAR