BEGIN:VCALENDAR
VERSION:2.0
PRODID:-//ACPRI - ECPv6.15.20//NONSGML v1.0//EN
CALSCALE:GREGORIAN
METHOD:PUBLISH
X-WR-CALNAME:ACPRI
X-ORIGINAL-URL:https://acpri.cat/es/
X-WR-CALDESC:Eventos para ACPRI
REFRESH-INTERVAL;VALUE=DURATION:PT1H
X-Robots-Tag:noindex
X-PUBLISHED-TTL:PT1H
BEGIN:VTIMEZONE
TZID:Europe/Madrid
BEGIN:DAYLIGHT
TZOFFSETFROM:+0100
TZOFFSETTO:+0200
TZNAME:CEST
DTSTART:20250330T010000
END:DAYLIGHT
BEGIN:STANDARD
TZOFFSETFROM:+0200
TZOFFSETTO:+0100
TZNAME:CET
DTSTART:20251026T010000
END:STANDARD
BEGIN:DAYLIGHT
TZOFFSETFROM:+0100
TZOFFSETTO:+0200
TZNAME:CEST
DTSTART:20260329T010000
END:DAYLIGHT
BEGIN:STANDARD
TZOFFSETFROM:+0200
TZOFFSETTO:+0100
TZNAME:CET
DTSTART:20261025T010000
END:STANDARD
BEGIN:DAYLIGHT
TZOFFSETFROM:+0100
TZOFFSETTO:+0200
TZNAME:CEST
DTSTART:20270328T010000
END:DAYLIGHT
BEGIN:STANDARD
TZOFFSETFROM:+0200
TZOFFSETTO:+0100
TZNAME:CET
DTSTART:20271031T010000
END:STANDARD
END:VTIMEZONE
BEGIN:VEVENT
DTSTART;TZID=Europe/Madrid:20260408T080000
DTEND;TZID=Europe/Madrid:20260517T233000
DTSTAMP:20260422T012917
CREATED:20260421T105241Z
LAST-MODIFIED:20260421T110026Z
UID:28932-1775635200-1779060600@acpri.cat
SUMMARY:Premis ACPRI: Primera Fase
DESCRIPTION:En esta fase\, cualquier profesional vinculado con el protocolo y las relaciones institucionales podrá proponer todas las candidaturas que crea adecuadas a las dos categorías de Premios ACPRI.  \n\n\n\nNo es requisito formar parte de ACPRI para poder participar en esta fase. \n\n\n\nLas propuestas se pueden realizar para las categorías que se desee\, no es necesario proponer candidaturas para ambas categorías. El número de candidaturas a presentar no está limitado. En esta primera fase será necesario justificar el motivo por el cual se presenta la propuesta o propuestas y documentarlas debidamente.
URL:https://acpri.cat/es/event/premis-acpri-primera-fase/
END:VEVENT
BEGIN:VEVENT
DTSTART;TZID=Europe/Madrid:20260422T180000
DTEND;TZID=Europe/Madrid:20260422T193000
DTSTAMP:20260422T012917
CREATED:20260320T105941Z
LAST-MODIFIED:20260407T101255Z
UID:28747-1776880800-1776886200@acpri.cat
SUMMARY:CHARLA ACPRI - Xavier Purcallà: Comunicar lo inacabable
DESCRIPTION:Charla ACPRI en línea con Xavier Purcallà sobre los retos de comunicar la Sagrada Familia en un momento clave. Una sesión para descubrir estrategia\, relato y comunicación en proyectos de gran proyección internacional. \n\n\n\n\nInscríbete
URL:https://acpri.cat/es/event/charla-acpri-reserva-la-fecha/
ATTACH;FMTTYPE=image/jpeg:https://acpri.cat/wp-content/uploads/2026/04/dayketing-acpri-2026-51.jpg
END:VEVENT
END:VCALENDAR