BEGIN:VCALENDAR
VERSION:2.0
PRODID:-//ACPRI - ECPv6.15.19//NONSGML v1.0//EN
CALSCALE:GREGORIAN
METHOD:PUBLISH
X-ORIGINAL-URL:https://acpri.cat
X-WR-CALDESC:Esdeveniments per ACPRI
REFRESH-INTERVAL;VALUE=DURATION:PT1H
X-Robots-Tag:noindex
X-PUBLISHED-TTL:PT1H
BEGIN:VTIMEZONE
TZID:Europe/Madrid
BEGIN:DAYLIGHT
TZOFFSETFROM:+0100
TZOFFSETTO:+0200
TZNAME:CEST
DTSTART:20180325T010000
END:DAYLIGHT
BEGIN:STANDARD
TZOFFSETFROM:+0200
TZOFFSETTO:+0100
TZNAME:CET
DTSTART:20181028T010000
END:STANDARD
BEGIN:DAYLIGHT
TZOFFSETFROM:+0100
TZOFFSETTO:+0200
TZNAME:CEST
DTSTART:20190331T010000
END:DAYLIGHT
BEGIN:STANDARD
TZOFFSETFROM:+0200
TZOFFSETTO:+0100
TZNAME:CET
DTSTART:20191027T010000
END:STANDARD
BEGIN:DAYLIGHT
TZOFFSETFROM:+0100
TZOFFSETTO:+0200
TZNAME:CEST
DTSTART:20200329T010000
END:DAYLIGHT
BEGIN:STANDARD
TZOFFSETFROM:+0200
TZOFFSETTO:+0100
TZNAME:CET
DTSTART:20201025T010000
END:STANDARD
END:VTIMEZONE
BEGIN:VEVENT
DTSTART;TZID=Europe/Madrid:20190508T090000
DTEND;TZID=Europe/Madrid:20190508T110000
DTSTAMP:20260419T215449
CREATED:20190508T070000Z
LAST-MODIFIED:20190508T070000Z
UID:17773-1557306000-1557313200@acpri.cat
SUMMARY:V CONGRES INTERNACIONAL PROTOCOL CONTEMPORANI (CIEPC) “Protocol i Turisme: noves perspectives
DESCRIPTION:p>El Grup d’Investigació d’Història del Pensament Jurídico-Polític de la Facultat de Dret de la Universitat Nacional d’Educació a Distancia (UNED) de Madrid\, juntament amb la Societat d’Estudis Institucionals (SEEII)\, convoquen el V CONGRES INTERNACIONAL EL PROTOCOL CONTEMPORANI (CIEPC)\, que sota el lema “Protocol i Turisme: noves perspectives”\, tindran lloc al Saló d’Actes de la Facultat de Dret de la UNED\, els dies 8\, 9 i 10 de maig de 2019. \nEls associats de l’ACPRI que estigueu interessats teniu un descompte per la qual cosa cal que ens demaneu un certificat conforme esteu al corrent de pagament de la quota al correu socis@acpri.cat \nPer a més informació: http://www.congresointernacionalprotocolo.com/inicio_798744929.html
URL:https://acpri.cat/event/v-congres-internacional-protocol-contemporani-ciepc-protocol-i-turisme-noves-perspectives-3/
CATEGORIES:Altres
ATTACH;FMTTYPE=image/jpeg:https://acpri.cat/wp-content/uploads/2021/03/activitats333.jpg
END:VEVENT
BEGIN:VEVENT
DTSTART;TZID=Europe/Madrid:20190509T090000
DTEND;TZID=Europe/Madrid:20190509T110000
DTSTAMP:20260419T215449
CREATED:20190509T070000Z
LAST-MODIFIED:20190509T070000Z
UID:17770-1557392400-1557399600@acpri.cat
SUMMARY:V CONGRES INTERNACIONAL PROTOCOL CONTEMPORANI (CIEPC) “Protocol i Turisme: noves perspectives"
DESCRIPTION:p>El Grup d’Investigació d’Història del Pensament Jurídico-Polític de la Facultat de Dret de la Universitat Nacional d’Educació a Distancia (UNED) de Madrid\, juntament amb la Societat d’Estudis Institucionals (SEEII)\, convoquen el V CONGRES INTERNACIONAL EL PROTOCOL CONTEMPORANI (CIEPC)\, que sota el lema “Protocol i Turisme: noves perspectives”\, tindran lloc al Saló d’Actes de la Facultat de Dret de la UNED\, els dies 8\, 9 i 10 de maig de 2019. \nEls associats de l’ACPRI que estigueu  interessats teniu un descompte per la qual cosa cal que ens demaneu un  certificat conforme esteu al corrent de pagament de la quota al correu  socis@acpri.cat\n \nPer a més informació: http://www.congresointernacionalprotocolo.com/inicio_798744929.html
URL:https://acpri.cat/event/v-congres-internacional-protocol-contemporani-ciepc-protocol-i-turisme-noves-perspectives-2/
CATEGORIES:Altres
ATTACH;FMTTYPE=image/jpeg:https://acpri.cat/wp-content/uploads/2021/03/activitats334.jpg
END:VEVENT
BEGIN:VEVENT
DTSTART;TZID=Europe/Madrid:20190510T090000
DTEND;TZID=Europe/Madrid:20190510T110000
DTSTAMP:20260419T215449
CREATED:20190510T070000Z
LAST-MODIFIED:20190510T070000Z
UID:17767-1557478800-1557486000@acpri.cat
SUMMARY:V CONGRES INTERNACIONAL PROTOCOL CONTEMPORANI (CIEPC) “Protocol i Turisme: noves perspectives
DESCRIPTION:p>El Grup d’Investigació d’Història del Pensament Jurídico-Polític de la Facultat de Dret de la Universitat Nacional d’Educació a Distancia (UNED) de Madrid\, juntament amb la Societat d’Estudis Institucionals (SEEII)\, convoquen el V CONGRES INTERNACIONAL EL PROTOCOL CONTEMPORANI (CIEPC)\, que sota el lema “Protocol i Turisme: noves perspectives”\, tindran lloc al Saló d’Actes de la Facultat de Dret de la UNED\, els dies 8\, 9 i 10 de maig de 2019. \nEls associats de l’ACPRI que estigueu  interessats teniu un descompte per la qual cosa cal que ens demaneu un  certificat conforme esteu al corrent de pagament de la quota al correu  socis@acpri.cat\n \nPer a més informació: http://www.congresointernacionalprotocolo.com/inicio_798744929.html
URL:https://acpri.cat/event/v-congres-internacional-protocol-contemporani-ciepc-protocol-i-turisme-noves-perspectives/
CATEGORIES:Altres
ATTACH;FMTTYPE=image/jpeg:https://acpri.cat/wp-content/uploads/2021/03/activitats335.jpg
END:VEVENT
BEGIN:VEVENT
DTSTART;TZID=Europe/Madrid:20190516T193000
DTEND;TZID=Europe/Madrid:20190516T213000
DTSTAMP:20260419T215449
CREATED:20190516T173000Z
LAST-MODIFIED:20190516T173000Z
UID:17764-1558035000-1558042200@acpri.cat
SUMMARY:AFTERWORK maig
DESCRIPTION:p>Com ja sabeu estem realitzant els #afterworksACPRI\, una trobada per poder compartir una estona prenent alguna cosa i petant la xerrada. \nEl dia 16 maig a 2/4 de 8 del vespre us esperem a Bitter (Viladomat\, 17\, de Barcelona)
URL:https://acpri.cat/event/afterwork-maig/
CATEGORIES:Activitats ACPRI
ATTACH;FMTTYPE=image/jpeg:https://acpri.cat/wp-content/uploads/2021/03/activitats338.jpg
ORGANIZER;CN="Activitats ACPRI":MAILTO:acpri@acpri.cat
END:VEVENT
BEGIN:VEVENT
DTSTART;TZID=Europe/Madrid:20190523T170000
DTEND;TZID=Europe/Madrid:20190523T190000
DTSTAMP:20260419T215449
CREATED:20190523T150000Z
LAST-MODIFIED:20190523T150000Z
UID:17761-1558630800-1558638000@acpri.cat
SUMMARY:#despatxACPRI
DESCRIPTION:p>Si vols venir a participar\, a comentar\, a parlar … estarem a la seu de l’ACPRI a PIMEC (Viladomat 174 de Barcelona)\nEls dijous fem #despatx per tal d’interaccionar entre nosaltres mateixos. \nPer a més informació: socis@acpri.cat
URL:https://acpri.cat/event/despatxacpri-2/
CATEGORIES:Activitats ACPRI
ATTACH;FMTTYPE=image/jpeg:https://acpri.cat/wp-content/uploads/2021/03/activitats344.jpg
ORGANIZER;CN="Activitats ACPRI":MAILTO:acpri@acpri.cat
END:VEVENT
END:VCALENDAR