BEGIN:VCALENDAR
VERSION:2.0
PRODID:-//ACPRI - ECPv6.15.20//NONSGML v1.0//EN
CALSCALE:GREGORIAN
METHOD:PUBLISH
X-WR-CALNAME:ACPRI
X-ORIGINAL-URL:https://acpri.cat
X-WR-CALDESC:Esdeveniments per ACPRI
REFRESH-INTERVAL;VALUE=DURATION:PT1H
X-Robots-Tag:noindex
X-PUBLISHED-TTL:PT1H
BEGIN:VTIMEZONE
TZID:Europe/Madrid
BEGIN:DAYLIGHT
TZOFFSETFROM:+0100
TZOFFSETTO:+0200
TZNAME:CEST
DTSTART:20150329T010000
END:DAYLIGHT
BEGIN:STANDARD
TZOFFSETFROM:+0200
TZOFFSETTO:+0100
TZNAME:CET
DTSTART:20151025T010000
END:STANDARD
BEGIN:DAYLIGHT
TZOFFSETFROM:+0100
TZOFFSETTO:+0200
TZNAME:CEST
DTSTART:20160327T010000
END:DAYLIGHT
BEGIN:STANDARD
TZOFFSETFROM:+0200
TZOFFSETTO:+0100
TZNAME:CET
DTSTART:20161030T010000
END:STANDARD
BEGIN:DAYLIGHT
TZOFFSETFROM:+0100
TZOFFSETTO:+0200
TZNAME:CEST
DTSTART:20170326T010000
END:DAYLIGHT
BEGIN:STANDARD
TZOFFSETFROM:+0200
TZOFFSETTO:+0100
TZNAME:CET
DTSTART:20171029T010000
END:STANDARD
END:VTIMEZONE
BEGIN:VEVENT
DTSTART;TZID=Europe/Madrid:20160217T080000
DTEND;TZID=Europe/Madrid:20160217T100000
DTSTAMP:20260424T025932
CREATED:20160217T070000Z
LAST-MODIFIED:20210316T142013Z
UID:17978-1455696000-1455703200@acpri.cat
SUMMARY:I Congrés Comunicació i Seguretat als Esdeveniments
DESCRIPTION:La Universitat Complutense de Madrid conjuntament amb Icono14 organitzen aquesta trobada dedicada a la Comunicació i a la Seguretat als Esdeveniments. Els continguts i ponències es realitzaran els dies 17 i 18 de febrer\, centrat a la gestió de situacions crítiques.\n \nTrobada adreçada a professionals\, professors\, investigadors i estudiants amb l’objectiu d’intercanviar coneixements i experiències en situacions de crisis entre professionals de la Comunicació\, de la Seguretat\, del Protocol i de l’Organització d’Esdeveniments.\n \nEls horaris són:\n– dimecres 17 de febrer: de 08:30 a 14:00 i de 15:30 a 20:30\n– dijous 18 de febrer: de 09:30 a 20:30\n \nAquesta trobada es farà a:\nFACULTAT DE CIÈNCIES DE LA INFORMACIÓ\nUNIVERSITAT COMPLUTENSE DE MADRID\nSala d’Actes – Edifici Principal\n \n \nPROGRAMA PROVISIONAL \n \nCONTACTE  \n \nINSCRIPCIONS … http://goo.gl/forms/4NKHYBXTxS\nSi us inscriviu\, indiqueu on posa Estudiants: Membre de l’Associació Catalana de Protocol i Relacions Institucionals\nL’assistència és gratuïta a excepció de les persones que vulguin presentar una Comunicació al mateix
URL:https://acpri.cat/event/i-congres-comunicacio-i-seguretat-als-esdeveniments-2/
CATEGORIES:Altres
END:VEVENT
BEGIN:VEVENT
DTSTART;TZID=Europe/Madrid:20160218T080000
DTEND;TZID=Europe/Madrid:20160218T100000
DTSTAMP:20260424T025932
CREATED:20160218T070000Z
LAST-MODIFIED:20210316T142011Z
UID:17976-1455782400-1455789600@acpri.cat
SUMMARY:I Congrès Comunicació i Seguretat als Esdeveniments
DESCRIPTION:
URL:https://acpri.cat/event/i-congres-comunicacio-i-seguretat-als-esdeveniments/
CATEGORIES:Altres
END:VEVENT
BEGIN:VEVENT
DTSTART;TZID=Europe/Madrid:20160219T163000
DTEND;TZID=Europe/Madrid:20160219T183000
DTSTAMP:20260424T025932
CREATED:20160219T153000Z
LAST-MODIFIED:20210316T142010Z
UID:17974-1455899400-1455906600@acpri.cat
SUMMARY:Visita a la Sagrada Família de Barcelona
DESCRIPTION:L’Associació Catalana de Protocol i Relacions Institucionals i el Col·legi de Publicitaris i Relacions Publiques de Catalunya han organitzat pel proper divendres 19 de febrer una visita guiada i exclusiva a la Sagrada Família de Barcelona  pels membres de les dues entitats. \nLa visita començarà a 2/4 de 5 de la tarda. \nProperament us informarem de què cal fer per inscriure-us\nL’accés es gratuït però és imprescindible que estigueu inscrits
URL:https://acpri.cat/event/visita-a-la-sagrada-familia-de-barcelona/
CATEGORIES:Activitats ACPRI
ATTACH;FMTTYPE=image/jpeg:https://acpri.cat/wp-content/uploads/2018/09/activitats233.jpg
ORGANIZER;CN="Activitats ACPRI":MAILTO:acpri@acpri.cat
END:VEVENT
END:VCALENDAR