BEGIN:VCALENDAR
VERSION:2.0
PRODID:-//ACPRI - ECPv6.15.20//NONSGML v1.0//EN
CALSCALE:GREGORIAN
METHOD:PUBLISH
X-ORIGINAL-URL:https://acpri.cat
X-WR-CALDESC:Esdeveniments per ACPRI
REFRESH-INTERVAL;VALUE=DURATION:PT1H
X-Robots-Tag:noindex
X-PUBLISHED-TTL:PT1H
BEGIN:VTIMEZONE
TZID:Europe/Madrid
BEGIN:DAYLIGHT
TZOFFSETFROM:+0100
TZOFFSETTO:+0200
TZNAME:CEST
DTSTART:20140330T010000
END:DAYLIGHT
BEGIN:STANDARD
TZOFFSETFROM:+0200
TZOFFSETTO:+0100
TZNAME:CET
DTSTART:20141026T010000
END:STANDARD
BEGIN:DAYLIGHT
TZOFFSETFROM:+0100
TZOFFSETTO:+0200
TZNAME:CEST
DTSTART:20150329T010000
END:DAYLIGHT
BEGIN:STANDARD
TZOFFSETFROM:+0200
TZOFFSETTO:+0100
TZNAME:CET
DTSTART:20151025T010000
END:STANDARD
BEGIN:DAYLIGHT
TZOFFSETFROM:+0100
TZOFFSETTO:+0200
TZNAME:CEST
DTSTART:20160327T010000
END:DAYLIGHT
BEGIN:STANDARD
TZOFFSETFROM:+0200
TZOFFSETTO:+0100
TZNAME:CET
DTSTART:20161030T010000
END:STANDARD
END:VTIMEZONE
BEGIN:VEVENT
DTSTART;TZID=Europe/Madrid:20150418T093000
DTEND;TZID=Europe/Madrid:20150418T113000
DTSTAMP:20260425T174000
CREATED:20150418T073000Z
LAST-MODIFIED:20210316T142026Z
UID:17998-1429349400-1429356600@acpri.cat
SUMMARY:Esmorzar de Forquilla a Barcelona
DESCRIPTION:ACPRI enceta els seus ESMORZARS DE FORQUILLA\, una trobada entre els associats i les associades on\, mentre esmorzem\, departirem una estona amb la presència d’un convidat.\nAquests ESMORZARS es faran en dissabte al matí a l’Hotel España de Barcelona a 2/4 de 10 del matí (durada prevista fins les 12 del migdia). \nAquest primer ESMORZAR DE FORQUILLA tindrà lloc el dissabte 18 d’abril i comptarà amb la presència del Sr. Josep Maria Rex[1]\, que parlarà sobre "El marqueting emocional i la gestió de les emocions"\n\n\nPer apuntar-vos a l’esmorzar cal que envieu un correu amb les vostres dades (nom i cognoms i número d’associat) a webmaster@acpri.cat \nUn cop rebem aquest correu us enviarem el compte on heu de fer l’ingrés de l’ESMORZAR (22€) que un cop fet quedarà formalitzada la vostra inscripció (rebreu un correu on se us comunicarà que esteu inscrits) \n[1] Josep Maria Rex és professor Mercantil\, Economista i Diplomat en MK per la Universitat de la Sorbonne de París\, professor de la UPC i de l’Instituto Tecnológico de Monterrey (Mèxic); autor del llibre "Me han dicho que no lo diga"\nPresident de Fidelicat Loyalty Systems S.L. \n \nEsmorzar: Pa amb tomàquet\, teula d’embotits\, truita de carxofes\, fruita\, assortit de pastes\,vi negre\, cervesa\, cafè\, te i infusions.
URL:https://acpri.cat/event/esmorzar-de-forquilla-a-barcelona-2/
CATEGORIES:Activitats ACPRI
ATTACH;FMTTYPE=image/jpeg:https://acpri.cat/wp-content/uploads/2018/09/activitats216.jpg
ORGANIZER;CN="Activitats ACPRI":MAILTO:acpri@acpri.cat
END:VEVENT
BEGIN:VEVENT
DTSTART;TZID=Europe/Madrid:20150421T000000
DTEND;TZID=Europe/Madrid:20150421T020000
DTSTAMP:20260425T174000
CREATED:20150420T220000Z
LAST-MODIFIED:20210316T142024Z
UID:17996-1429574400-1429581600@acpri.cat
SUMMARY:VI Jornades de Protocol de Yecla -21 a 24 d'abril-
DESCRIPTION:p>Des de la Comissió de Formació de l’ACPRI informen de la VI Jornada de Protocol de Yecla que tindrà lloc en aquest població murciana del 21 al 24 d’abril de 2015. \nA la primera sessió de la Jornada intervindrà el nostre president i cap de protocol de l’Ajuntament de Terrassa\, Josep Solà \nINFORMACIÓ (per visalitzar la pàgina cal accedir amb les dades d’associat)
URL:https://acpri.cat/event/vi-jornades-de-protocol-de-yecla-21-a-24-dabril/
CATEGORIES:Altres
END:VEVENT
BEGIN:VEVENT
DTSTART;TZID=Europe/Madrid:20150422T090000
DTEND;TZID=Europe/Madrid:20150422T110000
DTSTAMP:20260425T174000
CREATED:20150422T070000Z
LAST-MODIFIED:20210316T142022Z
UID:17994-1429693200-1429700400@acpri.cat
SUMMARY:IV Jornades Pontevedra - Curs Comunicació i Protocol XV
DESCRIPTION:p>Des de la Comissió de Formació de l’ACPRI informen de les IV Jornades Internacionals de Comunicació Institucional i Imatge Pública. Curs Complementari de Comunicació i Protocol XV que es farà a Pontevedra els dies 22 i 23 d’abril de 2015. \nLa matricula és gratuïta i la podeu fer a www.bubela.uvigo.es
URL:https://acpri.cat/event/iv-jornades-pontevedra-curs-comunicacio-i-protocol-xv/
CATEGORIES:Altres
END:VEVENT
BEGIN:VEVENT
DTSTART;TZID=Europe/Madrid:20150429T190000
DTEND;TZID=Europe/Madrid:20150429T210000
DTSTAMP:20260425T174000
CREATED:20150429T170000Z
LAST-MODIFIED:20210316T142021Z
UID:17992-1430334000-1430341200@acpri.cat
SUMMARY:Debat ACCIEP: Participació Ciutadana i Govern Obert
DESCRIPTION:p>L’ACCIEP\, Associació Catalana de Comunicació\, Investigació i Estratègia polítiques\, ha organitzat aquest acte el proper dimecres 29 d’abril de 7 a 9 del vespre a la sala d’actes del Casal Pere Quart de Sabadell (Rambla\, 69) \nEs tracta del debat Participació ciutadana i Govern obert. \nUs adjuntem la informació en el document adjunt
URL:https://acpri.cat/event/debat-acciep-participacio-ciutadana-i-govern-obert/
CATEGORIES:Altres
ATTACH;FMTTYPE=image/jpeg:https://acpri.cat/wp-content/uploads/2018/09/activitats223.jpg
END:VEVENT
END:VCALENDAR