BEGIN:VCALENDAR
VERSION:2.0
PRODID:-//ACPRI - ECPv6.15.20//NONSGML v1.0//EN
CALSCALE:GREGORIAN
METHOD:PUBLISH
X-WR-CALNAME:ACPRI
X-ORIGINAL-URL:https://acpri.cat
X-WR-CALDESC:Esdeveniments per ACPRI
REFRESH-INTERVAL;VALUE=DURATION:PT1H
X-Robots-Tag:noindex
X-PUBLISHED-TTL:PT1H
BEGIN:VTIMEZONE
TZID:Europe/Madrid
BEGIN:DAYLIGHT
TZOFFSETFROM:+0100
TZOFFSETTO:+0200
TZNAME:CEST
DTSTART:20160327T010000
END:DAYLIGHT
BEGIN:STANDARD
TZOFFSETFROM:+0200
TZOFFSETTO:+0100
TZNAME:CET
DTSTART:20161030T010000
END:STANDARD
BEGIN:DAYLIGHT
TZOFFSETFROM:+0100
TZOFFSETTO:+0200
TZNAME:CEST
DTSTART:20170326T010000
END:DAYLIGHT
BEGIN:STANDARD
TZOFFSETFROM:+0200
TZOFFSETTO:+0100
TZNAME:CET
DTSTART:20171029T010000
END:STANDARD
BEGIN:DAYLIGHT
TZOFFSETFROM:+0100
TZOFFSETTO:+0200
TZNAME:CEST
DTSTART:20180325T010000
END:DAYLIGHT
BEGIN:STANDARD
TZOFFSETFROM:+0200
TZOFFSETTO:+0100
TZNAME:CET
DTSTART:20181028T010000
END:STANDARD
BEGIN:DAYLIGHT
TZOFFSETFROM:+0100
TZOFFSETTO:+0200
TZNAME:CEST
DTSTART:20190331T010000
END:DAYLIGHT
BEGIN:STANDARD
TZOFFSETFROM:+0200
TZOFFSETTO:+0100
TZNAME:CET
DTSTART:20191027T010000
END:STANDARD
END:VTIMEZONE
BEGIN:VEVENT
DTSTART;TZID=Europe/Madrid:20170405T183000
DTEND;TZID=Europe/Madrid:20170405T203000
DTSTAMP:20260422T235439
CREATED:20170405T163000Z
LAST-MODIFIED:20210316T141950Z
UID:17928-1491417000-1491424200@acpri.cat
SUMMARY:Assemblea Ordinària ACPRI 2017
DESCRIPTION:
URL:https://acpri.cat/event/assemblea-ordinaria-acpri-2017/
CATEGORIES:Activitats ACPRI
ATTACH;FMTTYPE=image/jpeg:https://acpri.cat/wp-content/uploads/2018/09/activitats257.jpg
ORGANIZER;CN="Activitats ACPRI":MAILTO:acpri@acpri.cat
END:VEVENT
BEGIN:VEVENT
DTSTART;TZID=Europe/Madrid:20170405T190000
DTEND;TZID=Europe/Madrid:20170405T210000
DTSTAMP:20260422T235439
CREATED:20170405T170000Z
LAST-MODIFIED:20210316T141950Z
UID:17926-1491418800-1491426000@acpri.cat
SUMMARY:Eleccions a la Junta de Govern de l'ACPRI - 2017
DESCRIPTION:p>A l’Assemblea Extraordinària celebrada l’11 de gener es van aprovar els nous Estatuts de l’Associació per adequar-los a la legislació vigent. En aquesta mateixa Assemblea es va fer saber que la Junta de Govern actual cessaria per convocar unes noves eleccions que tindran lloc el proper dia 5 d’abril. \nNORMES DE PROCEDIMENT ELECTORAL \nCALENDARI ELECTORAL \nCONVOCATÒRIA \n \nCANDIDATURES \nNota sobre la candidatura: Us fem saber que la candidatura que es va penjar el primer dia no era completa. Es van escanejar les cares de davant del document i no les posteriors\, aixi que va sortir escapçat\, només fulls imparells. En aquest document que hi ha és el complet. Disculpeu les molèsties
URL:https://acpri.cat/event/eleccions-a-la-junta-de-govern-de-lacpri-2017/
CATEGORIES:Activitats ACPRI
ATTACH;FMTTYPE=image/jpeg:https://acpri.cat/wp-content/uploads/2018/09/activitats256.jpg
ORGANIZER;CN="Activitats ACPRI":MAILTO:acpri@acpri.cat
END:VEVENT
BEGIN:VEVENT
DTSTART;TZID=Europe/Madrid:20170502T183000
DTEND;TZID=Europe/Madrid:20170502T203000
DTSTAMP:20260422T235439
CREATED:20170502T163000Z
LAST-MODIFIED:20210316T141948Z
UID:17924-1493749800-1493757000@acpri.cat
SUMMARY:Junta de Govern ACPRI
DESCRIPTION:
URL:https://acpri.cat/event/junta-de-govern-acpri-3/
CATEGORIES:Activitats ACPRI
ORGANIZER;CN="Activitats ACPRI":MAILTO:acpri@acpri.cat
END:VEVENT
BEGIN:VEVENT
DTSTART;TZID=Europe/Madrid:20170503T190000
DTEND;TZID=Europe/Madrid:20170503T210000
DTSTAMP:20260422T235439
CREATED:20170503T170000Z
LAST-MODIFIED:20210316T141946Z
UID:17922-1493838000-1493845200@acpri.cat
SUMMARY:Assemblea Extraordinària 2017 _nova junta-
DESCRIPTION:
URL:https://acpri.cat/event/assemblea-extraordinaria-2017-_nova-junta/
CATEGORIES:Activitats ACPRI
ATTACH;FMTTYPE=image/jpeg:https://acpri.cat/wp-content/uploads/2018/09/activitats258.jpg
ORGANIZER;CN="Activitats ACPRI":MAILTO:acpri@acpri.cat
END:VEVENT
BEGIN:VEVENT
DTSTART;TZID=Europe/Madrid:20170517T180000
DTEND;TZID=Europe/Madrid:20170517T200000
DTSTAMP:20260422T235439
CREATED:20170517T160000Z
LAST-MODIFIED:20210316T141946Z
UID:17920-1495044000-1495051200@acpri.cat
SUMMARY:Debat-Col·loqui sobre Comunicació Interna a la UOC
DESCRIPTION:El proper dimecres 17 de maig de 18h a 19.15h El tema escollit per a aquesta edició és COMUNICACIÓ INTERNA: REPTES DE FUTUR.tindrà lloc la primera edició dels Debats-Col·loqui del Màster universitari de Comunicació corporativa\, protocol i esdeveniments de la UOC. \nL’acte se celebrarà a la Sala Laporte de la Universitat Oberta de Catalunya (Av. Tibidabo\, 39-43. Barcelona). \nEn aquest debat comptarem amb la presència de reconeguts professionals\, qui ens donaran els seus punts de vista sobre l’estat actual i els reptes que afronta la comunicació interna dins les empreses i les institucions. \nEl format col·loqui de l’acte permetrà la participació activa dels assistents.\nPonents:\n·Maria Rodríguez\, directora de Comunicació interna\, Desenvolupament i Atenció al Personal i Gerència de Recursos Humans i Organització a l’Ajuntament de Barcelona.\n·Albert Piqué\, director de Comunicació interna de TMB.\n·Joan Cuenca\, professor col·laborador de l’assignatura Comunicació interna del Màster universitari de Comunicació corporativa\, Protocol i Esdeveniments de la UOC.\n·Enric Almuzara\, manager de Desenvolupament de Persones del RACC.\n·Laura Verazzi\, cofundadora i directora de Vector C\, consultora especialitzada en comunicació interna.\n·Cristina Salvador\, directora de aPortada\, agència amb serveis en Comunicació interna.\n·Elisenda Estanyol\, directora acadèmica del màster universitari de Comunicació corporativa\, protocol i esdeveniments de la UOC. \nL’acte és gratuït\, però cal inscripció prèvia. \nPer a més informació i inscripcions:\nhttps://symposium.uoc.edu/event_detail/9538/detail/debat-colmloqui_-comunicacio-interna.html
URL:https://acpri.cat/event/debat-colloqui-sobre-comunicacio-interna-a-la-uoc/
CATEGORIES:Altres
ATTACH;FMTTYPE=image/jpeg:https://acpri.cat/wp-content/uploads/2018/09/activitats264.jpg
END:VEVENT
BEGIN:VEVENT
DTSTART;TZID=Europe/Madrid:20170517T183000
DTEND;TZID=Europe/Madrid:20170517T203000
DTSTAMP:20260422T235439
CREATED:20170517T163000Z
LAST-MODIFIED:20210316T141945Z
UID:17918-1495045800-1495053000@acpri.cat
SUMMARY:Junta Govern ACPRI
DESCRIPTION:
URL:https://acpri.cat/event/junta-govern-acpri/
CATEGORIES:Activitats ACPRI
ORGANIZER;CN="Activitats ACPRI":MAILTO:acpri@acpri.cat
END:VEVENT
BEGIN:VEVENT
DTSTART;TZID=Europe/Madrid:20170601T160000
DTEND;TZID=Europe/Madrid:20170601T180000
DTSTAMP:20260422T235439
CREATED:20170601T140000Z
LAST-MODIFIED:20210316T141944Z
UID:17916-1496332800-1496340000@acpri.cat
SUMMARY:V Congres Universitari de Comunicació i Esdeveniments
DESCRIPTION:strong>EL VALOR DELS ESDEVENIMENTS (#loquevale)\nMadrid 1\, 2 i 3 de juny de 2017\nhttp://www.congresocomunicacionyeventos.com/es/ \n \nDijous\, 1 de juny. (C / Moscatelar\, 23)\n \nTALLERS OPCIONALS\n \n16.00 h.\nRecollida de credencials\n \n16: 30h.\nExperiències i aportacions (format taller). Opcional. Cada participant ha d’inscriure en un taller (un cop s’ompli la quota es tancarà la inscripció; màxim per taller 40 persones; mínim 10 persones).\nTaller 1. Esdeveniments mediàtics o / i per a la televisió. Guió\, Producció i Protocol. Necessitats bàsiques de Realització. Ús adequat de colors i espais en l’era digital.\nTaller 2. Tendències de dinamització i entreteniment en els esdeveniments corporatius i institucionals.\nTaller 3. Tendències en escenografia i disseny d’interiors en els esdeveniments. Gestió d’espais.\nTaller 4. Com captar l’atenció dels mitjans: desenvolupament d’accions de premsa que generin impacte.\nTaller 5. Tendències i innovacions en els esdeveniments socials. Reptes del sector Wedding Planner.\nTaller 6. L’organització d’esdeveniments oficials i el seu protocol. Anàlisi i valoració dels canvis a través de casos pràctics.\nSala de Ponències i comunicacions: exposició de comunicacions i ponències presentades oficialment pels professionals o investigadors (sense cost addicional). Accés lliure i sense mínim d’assistència.\n \n19.00 h.\nFi dels tallers\, ponències i comunicacions
URL:https://acpri.cat/event/v-congres-universitari-de-comunicacio-i-esdeveniments-3/
CATEGORIES:Altres
ATTACH;FMTTYPE=image/jpeg:https://acpri.cat/wp-content/uploads/2018/09/activitats259.jpg
END:VEVENT
BEGIN:VEVENT
DTSTART;TZID=Europe/Madrid:20170602T093000
DTEND;TZID=Europe/Madrid:20170602T113000
DTSTAMP:20260422T235439
CREATED:20170602T073000Z
LAST-MODIFIED:20210316T141943Z
UID:17914-1496395800-1496403000@acpri.cat
SUMMARY:V Congres Universitari de Comunicació i Esdeveniments
DESCRIPTION:strong>\nEL VALOR DELS ESDEVENIMENTS (#loquevale)\nMadrid 1\, 2 i 3 de juny de 2017\nhttp://www.congresocomunicacionyeventos.com/es/\n \nDivendres\, 2 de juny. (Hotel Porta d’Amèrica) \n9.00 h.\nLliurament de credencials per als que no assisteixin als tallers.\n \n9:30 h.\nInauguració oficial de les sessions plenàries del Congrés.\n \n10.00 h.\nPonència inaugural. L’estat actual del sector dels esdeveniments a Espanya i al món i la seva projecció de futur.\n \n11.30 h.\nDescans. Cafè.\n \n12.00 h.\nPonència. La importància de saber mesurar el ROI. Com programar un esdeveniment que permeti obtenir dades fiables de resultats?\n \n12.45 h.\nPonència. El paper del gestor de comptes\, l’atenció al client i proveïdors\, la presentació de projectes i l’elaboració de pressupostos.\n \n13.30 h.\nPonència. Panorama\, anàlisi i propostes de millora dels processos de concurs i licitacions al sector.\n \n14.15 h.\nFi de les sessions del matí.\n \n16.00 h.\nPonència. El web de l’esdeveniment. Com s’ha de plantejar i com convertir-la en un important instrument de comunicació interna i externa?\n \n16.45 h.\nPonència. Com gestionar la captació de patrocinadors d’esdeveniments públics i privats i la possible influència d’aquests en el disseny i execució de l’esdeveniment?\n \n17.30 h.\nPonència. L’aportació del protocol en els esdeveniments no oficials. El seu valor econòmic.\n \n18.15 h.\nEl valor de la música. Com han de sonar els esdeveniments?\n \n19.00 h.\nFi de les sessions de la jornada
URL:https://acpri.cat/event/v-congres-universitari-de-comunicacio-i-esdeveniments-2/
CATEGORIES:Altres
ATTACH;FMTTYPE=image/jpeg:https://acpri.cat/wp-content/uploads/2018/09/activitats260.jpg
END:VEVENT
BEGIN:VEVENT
DTSTART;TZID=Europe/Madrid:20170603T090000
DTEND;TZID=Europe/Madrid:20170603T110000
DTSTAMP:20260422T235439
CREATED:20170603T070000Z
LAST-MODIFIED:20210316T141943Z
UID:17912-1496480400-1496487600@acpri.cat
SUMMARY:V Congres Universitari de Comunicació i Esdeveniments
DESCRIPTION:strong>\nEL VALOR DELS ESDEVENIMENTS (#loquevale)\nMadrid 1\, 2 i 3 de juny de 2017\nhttp://www.congresocomunicacionyeventos.com/es/\n\n \nDissabte\, 3 de juny. (Hotel Porta d’Amèrica).\n \n9.00 h.\nL’aportació dels nous càterings tematitzats al resultat dels esdeveniments. El valor de la gastronomia.\n \n09.45 h.\nEsdeveniments de Moda. Aportacions creatives al sector.\n \n10.30 h.\nDescans. Cafè.\n \n11.00 h.\nEl valor de la imatge institucional. La posada en escena dels esdeveniments oficials.\n \n11.45 h.\nPonència de clausura. L’ètica i la bones pràctiques en el sector professional. El valor general de la professió.\n \n12.45 h.\nTancament oficial del Congrés.\n \n13.00 h.\nCòctel de cloenda
URL:https://acpri.cat/event/v-congres-universitari-de-comunicacio-i-esdeveniments/
CATEGORIES:Altres
ATTACH;FMTTYPE=image/jpeg:https://acpri.cat/wp-content/uploads/2018/09/activitats261.jpg
END:VEVENT
BEGIN:VEVENT
DTSTART;TZID=Europe/Madrid:20170627T183000
DTEND;TZID=Europe/Madrid:20170627T203000
DTSTAMP:20260422T235439
CREATED:20170627T163000Z
LAST-MODIFIED:20210316T141942Z
UID:17910-1498588200-1498595400@acpri.cat
SUMMARY:Junta de Govern de l'ACPRI
DESCRIPTION:
URL:https://acpri.cat/event/junta-de-govern-de-lacpri-6/
CATEGORIES:Activitats ACPRI
ORGANIZER;CN="Activitats ACPRI":MAILTO:acpri@acpri.cat
END:VEVENT
BEGIN:VEVENT
DTSTART;TZID=Europe/Madrid:20170628T190000
DTEND;TZID=Europe/Madrid:20170628T210000
DTSTAMP:20260422T235439
CREATED:20170628T170000Z
LAST-MODIFIED:20210316T141939Z
UID:17908-1498676400-1498683600@acpri.cat
SUMMARY:Signatura Conveni ACPRI-UOC
DESCRIPTION:
URL:https://acpri.cat/event/signatura-conveni-acpri-uoc/
CATEGORIES:Activitats ACPRI
ORGANIZER;CN="Activitats ACPRI":MAILTO:acpri@acpri.cat
END:VEVENT
BEGIN:VEVENT
DTSTART;TZID=Europe/Madrid:20170711T140000
DTEND;TZID=Europe/Madrid:20170711T160000
DTSTAMP:20260422T235440
CREATED:20170711T120000Z
LAST-MODIFIED:20210316T141937Z
UID:17906-1499781600-1499788800@acpri.cat
SUMMARY:Reunió Jurat Premis ACPRI 2017
DESCRIPTION:
URL:https://acpri.cat/event/reunio-jurat-premis-acpri-2017/
CATEGORIES:Activitats ACPRI
ORGANIZER;CN="Activitats ACPRI":MAILTO:acpri@acpri.cat
END:VEVENT
BEGIN:VEVENT
DTSTART;TZID=Europe/Madrid:20170717T103000
DTEND;TZID=Europe/Madrid:20170717T123000
DTSTAMP:20260422T235440
CREATED:20170717T083000Z
LAST-MODIFIED:20210316T141934Z
UID:17904-1500287400-1500294600@acpri.cat
SUMMARY:Signatura Pacte per a la Reforma Horaria
DESCRIPTION:p>El president de la nostra Associació\, Josep Solà\, signarà juntament amb 110 entitats i institucions catalanes el Pacte per a la Reforma Horaria #objectiu2025 al Palau de la Generalitat davant del President\, Carles Puigdemont\, i del Conseller de la Presidència i portaveu del Govern\, Jordi Turull. \nEl Pacte ja fa temps que s’ha estat treballant en taules cuadrangulars\, sent en Francisco Fernandez de Navas el representant de l’Associació a la taula de les administracions Públiques
URL:https://acpri.cat/event/signatura-pacte-per-a-la-reforma-horaria/
CATEGORIES:Activitats ACPRI
ORGANIZER;CN="Activitats ACPRI":MAILTO:acpri@acpri.cat
END:VEVENT
BEGIN:VEVENT
DTSTART;TZID=Europe/Madrid:20170718T170000
DTEND;TZID=Europe/Madrid:20170718T190000
DTSTAMP:20260422T235440
CREATED:20170718T150000Z
LAST-MODIFIED:20210316T141932Z
UID:17902-1500397200-1500404400@acpri.cat
SUMMARY:Junta de Govern de l'ACPRI
DESCRIPTION:
URL:https://acpri.cat/event/junta-de-govern-de-lacpri-5/
CATEGORIES:Activitats ACPRI
ORGANIZER;CN="Activitats ACPRI":MAILTO:acpri@acpri.cat
END:VEVENT
BEGIN:VEVENT
DTSTART;TZID=Europe/Madrid:20170725T203000
DTEND;TZID=Europe/Madrid:20170725T223000
DTSTAMP:20260422T235440
CREATED:20170725T183000Z
LAST-MODIFIED:20210316T141931Z
UID:17900-1501014600-1501021800@acpri.cat
SUMMARY:Trobada d'Estiu de l'ACPRI
DESCRIPTION:p>El proper dimarts 25 de juliol farem la Trobada d’Estiu per tal que socis i amics de l’ACPRI ens trobem per desitjar-nos un bon estiu amb la millor companyia. \nAquesta Trobada es farà al Restaurant Casanovas que es troba al carrer de la Diputació\, 80 de Barcelona. Ens fan un preu especial com a col·lectiu i que és:\n25\,- € per a SOCIS\n30\,- € per a NO SOCIS \nPer tal que sigui efectiva la vostra reserva cal que feu ingrés al compte de l’ACPRI:  \n\n\n\n\n            ES21 0081 4128 7500 0122 4026\n\n\n\nIndiqueu el vostre nom i cognoms amb el número d’associat (en cas de ser-ho) o senzillament el nom i cognoms en cas que no ho sigueu \nPer a qualsevol dubte o informació escriviu a socis@acpri.cat \n 
URL:https://acpri.cat/event/trobada-destiu-de-lacpri/
CATEGORIES:Activitats ACPRI
ATTACH;FMTTYPE=image/jpeg:https://acpri.cat/wp-content/uploads/2018/09/activitats272.jpg
ORGANIZER;CN="Activitats ACPRI":MAILTO:acpri@acpri.cat
END:VEVENT
BEGIN:VEVENT
DTSTART;TZID=Europe/Madrid:20171004T180000
DTEND;TZID=Europe/Madrid:20171004T200000
DTSTAMP:20260422T235440
CREATED:20171004T160000Z
LAST-MODIFIED:20210316T141930Z
UID:17898-1507140000-1507147200@acpri.cat
SUMMARY:Junta de Govern de l'ACPRI
DESCRIPTION:
URL:https://acpri.cat/event/junta-de-govern-de-lacpri-4/
CATEGORIES:Activitats ACPRI
ORGANIZER;CN="Activitats ACPRI":MAILTO:acpri@acpri.cat
END:VEVENT
BEGIN:VEVENT
DTSTART;TZID=Europe/Madrid:20171027T203000
DTEND;TZID=Europe/Madrid:20171027T223000
DTSTAMP:20260422T235440
CREATED:20171027T183000Z
LAST-MODIFIED:20210316T141928Z
UID:17896-1509136200-1509143400@acpri.cat
SUMMARY:X NIT DE L'ACPRI
DESCRIPTION:p>Ja estem treballant en la propera NIT DE L’ACPRI. Enguany arribem a la desena edició i amb aquest acte pretenem començar els actes del desè aniversari del naixement de l’Associació Catalana de Protocol i Relacions Institucionals que clourà el 2018 amb el lliurament dels desens Premis ACPRI. \nSerà el dia 27 d’octubre a Barcelona\, i ho farem on vam celebrar la primera nit\, a l’Hotel Crowne Plaza Barcelona Fira\, a l’avinguda de Rius i Taulet\, 1\, de Barcelona. \nEn el transcurs d’aquesta NIT lliurarem els Premis Nacionals de Protocol i Relacions Institucionals 2017 a l’Il·lm. Sr. Carles Cortina i Riu\, en la trajectòria professional\, i als organitzadors de les Havaneres de Calella en la categoria d’empresa o institució. \nEl preu és de 35 € per als socis i 55 € per als no socis. \nPer a més informació premis@acpri.cat \nINSCRIPCIONS
URL:https://acpri.cat/event/x-nit-de-lacpri/
CATEGORIES:Activitats ACPRI
ATTACH;FMTTYPE=image/jpeg:https://acpri.cat/wp-content/uploads/2018/09/activitats275.jpg
ORGANIZER;CN="Activitats ACPRI":MAILTO:acpri@acpri.cat
END:VEVENT
BEGIN:VEVENT
DTSTART;TZID=Europe/Madrid:20171115T183000
DTEND;TZID=Europe/Madrid:20171115T203000
DTSTAMP:20260422T235440
CREATED:20171115T173000Z
LAST-MODIFIED:20210316T141928Z
UID:17894-1510770600-1510777800@acpri.cat
SUMMARY:Junta de Govern
DESCRIPTION:
URL:https://acpri.cat/event/junta-de-govern-4/
CATEGORIES:Activitats ACPRI
ATTACH;FMTTYPE=image/jpeg:https://acpri.cat/wp-content/uploads/2018/09/activitats278.jpg
ORGANIZER;CN="Activitats ACPRI":MAILTO:acpri@acpri.cat
END:VEVENT
BEGIN:VEVENT
DTSTART;TZID=Europe/Madrid:20171127T000000
DTEND;TZID=Europe/Madrid:20171127T020000
DTSTAMP:20260422T235440
CREATED:20171126T230000Z
LAST-MODIFIED:20210316T141927Z
UID:17892-1511740800-1511748000@acpri.cat
SUMMARY:XVI Congres Internacional de Protocol\, Comunicació Corporativa\, Imatge Personal i Organització d'Esdeveniments
DESCRIPTION:Els dies 27\, 28 i 29 de novembre tindrà lloc el XVI Congres Internacional de Protocol\, Comunicació Corporativa\, Imatge Personal i Organització d’Esdeveniments.\nEnguany es organitzada per l’Escuela Internacional de Protocolo i auspiciada per l’Organització Internacional de Cerimonial i Protocol (OICP).\nACPRI forma part de l’OICP des de fa anys i des de la darrera legislatura el nostre president és vicepresident tercer de l’Organització.\nUs convidem a mirar la web on hi ha la informació i us animem a assistir-hi. Recordeu que els socis de l’ACPRI tenen descompte a la inscripció. Si ho voleu fer cal que demaneu un certificat conforme sou socis actius a socis@acpri.cat\nhttp://www.congresoprotocolovalladolid.com/
URL:https://acpri.cat/event/xvi-congres-internacional-de-protocol-comunicacio-corporativa-imatge-personal-i-organitzacio-desdeveniments-3/
CATEGORIES:Activitats ACPRI
ATTACH;FMTTYPE=image/jpeg:https://acpri.cat/wp-content/uploads/2018/09/activitats268.jpg
ORGANIZER;CN="Activitats ACPRI":MAILTO:acpri@acpri.cat
END:VEVENT
BEGIN:VEVENT
DTSTART;TZID=Europe/Madrid:20171128T000000
DTEND;TZID=Europe/Madrid:20171128T020000
DTSTAMP:20260422T235440
CREATED:20171127T230000Z
LAST-MODIFIED:20210316T141927Z
UID:17890-1511827200-1511834400@acpri.cat
SUMMARY:XVI Congres Internacional de Protocol\, Comunicació Corporativa\, Imatge Personal i Organització d'Esdeveniments
DESCRIPTION:Els dies 27\, 28 i 29 de novembre tindrà lloc el XVI Congres Internacional de Protocol\, Comunicació Corporativa\, Imatge Personal i Organització d’Esdeveniments.\nEnguany es organitzada per l’Escuela Internacional de Protocolo i auspiciada per l’Organització Internacional de Cerimonial i Protocol (OICP).\nACPRI forma part de l’OICP des de fa anys i des de la darrera legislatura el nostre president és vicepresident tercer de l’Organització.\nUs convidem a mirar la web on hi ha la informació i us animem a assistir-hi. Recordeu que els socis de l’ACPRI tenen descompte a la inscripció. Si ho voleu fer cal que demaneu un certificat conforme sou socis actius a socis@acpri.cat\nhttp://www.congresoprotocolovalladolid.com/
URL:https://acpri.cat/event/xvi-congres-internacional-de-protocol-comunicacio-corporativa-imatge-personal-i-organitzacio-desdeveniments-2/
CATEGORIES:Activitats ACPRI
ATTACH;FMTTYPE=image/jpeg:https://acpri.cat/wp-content/uploads/2018/09/activitats269.jpg
ORGANIZER;CN="Activitats ACPRI":MAILTO:acpri@acpri.cat
END:VEVENT
BEGIN:VEVENT
DTSTART;TZID=Europe/Madrid:20171129T000000
DTEND;TZID=Europe/Madrid:20171129T020000
DTSTAMP:20260422T235440
CREATED:20171128T230000Z
LAST-MODIFIED:20210316T141927Z
UID:17888-1511913600-1511920800@acpri.cat
SUMMARY:XVI Congres Internacional de Protocol\, Comunicació Corporativa\, Imatge Personal i Organització d'Esdeveniments
DESCRIPTION:Els dies 27\, 28 i 29 de novembre tindrà lloc el XVI Congres Internacional de Protocol\, Comunicació Corporativa\, Imatge Personal i Organització d’Esdeveniments.\nEnguany es organitzada per l’Escuela Internacional de Protocolo i auspiciada per l’Organització Internacional de Cerimonial i Protocol (OICP).\nACPRI forma part de l’OICP des de fa anys i des de la darrera legislatura el nostre president és vicepresident tercer de l’Organització.\nUs convidem a mirar la web on hi ha la informació i us animem a assistir-hi. Recordeu que els socis de l’ACPRI tenen descompte a la inscripció. Si ho voleu fer cal que demaneu un certificat conforme sou socis actius a socis@acpri.cat\nhttp://www.congresoprotocolovalladolid.com/
URL:https://acpri.cat/event/xvi-congres-internacional-de-protocol-comunicacio-corporativa-imatge-personal-i-organitzacio-desdeveniments/
CATEGORIES:Activitats ACPRI
ATTACH;FMTTYPE=image/jpeg:https://acpri.cat/wp-content/uploads/2018/09/activitats270.jpg
ORGANIZER;CN="Activitats ACPRI":MAILTO:acpri@acpri.cat
END:VEVENT
BEGIN:VEVENT
DTSTART;TZID=Europe/Madrid:20171218T200000
DTEND;TZID=Europe/Madrid:20171218T220000
DTSTAMP:20260422T235440
CREATED:20171218T190000Z
LAST-MODIFIED:20210316T141926Z
UID:17886-1513627200-1513634400@acpri.cat
SUMMARY:Junta de Govern
DESCRIPTION:
URL:https://acpri.cat/event/junta-de-govern-3/
CATEGORIES:Activitats ACPRI
ATTACH;FMTTYPE=image/jpeg:https://acpri.cat/wp-content/uploads/2018/09/activitats279.jpg
ORGANIZER;CN="Activitats ACPRI":MAILTO:acpri@acpri.cat
END:VEVENT
BEGIN:VEVENT
DTSTART;TZID=Europe/Madrid:20180321T173000
DTEND;TZID=Europe/Madrid:20180321T193000
DTSTAMP:20260422T235440
CREATED:20180321T163000Z
LAST-MODIFIED:20210316T141926Z
UID:17884-1521653400-1521660600@acpri.cat
SUMMARY:Junta de Govern
DESCRIPTION:
URL:https://acpri.cat/event/junta-de-govern-2/
CATEGORIES:Activitats ACPRI
ATTACH;FMTTYPE=image/jpeg:https://acpri.cat/wp-content/uploads/2018/09/activitats280.jpg
ORGANIZER;CN="Activitats ACPRI":MAILTO:acpri@acpri.cat
END:VEVENT
BEGIN:VEVENT
DTSTART;TZID=Europe/Madrid:20180426T173000
DTEND;TZID=Europe/Madrid:20180426T193000
DTSTAMP:20260422T235440
CREATED:20180426T153000Z
LAST-MODIFIED:20210316T141926Z
UID:17882-1524763800-1524771000@acpri.cat
SUMMARY:Junta de Govern
DESCRIPTION:
URL:https://acpri.cat/event/junta-de-govern/
CATEGORIES:Activitats ACPRI
ATTACH;FMTTYPE=image/jpeg:https://acpri.cat/wp-content/uploads/2018/09/activitats281.jpg
ORGANIZER;CN="Activitats ACPRI":MAILTO:acpri@acpri.cat
END:VEVENT
BEGIN:VEVENT
DTSTART;TZID=Europe/Madrid:20180523T170000
DTEND;TZID=Europe/Madrid:20180523T190000
DTSTAMP:20260422T235440
CREATED:20180523T150000Z
LAST-MODIFIED:20180523T150000Z
UID:17881-1527094800-1527102000@acpri.cat
SUMMARY:#despatxACPRI
DESCRIPTION:p>Si vols venir a participar\, a comentar\, a parlar … estarem a la seu de l’ACPRI a PIMEC (Viladomat 174 de Barcelona)\nEls dijous fem #despatx per tal d’interaccionar entre nosaltres mateixos. \nPer a més informació: socis@acpri.cat \n \n 
URL:https://acpri.cat/event/despatxacpri-3/
CATEGORIES:Activitats ACPRI
ORGANIZER;CN="Activitats ACPRI":MAILTO:acpri@acpri.cat
END:VEVENT
BEGIN:VEVENT
DTSTART;TZID=Europe/Madrid:20180607T170000
DTEND;TZID=Europe/Madrid:20180607T190000
DTSTAMP:20260422T235440
CREATED:20180607T150000Z
LAST-MODIFIED:20210316T141924Z
UID:17879-1528390800-1528398000@acpri.cat
SUMMARY:Temps ACPRI
DESCRIPTION:La Junta de Govern de l’ACPRI ha instaurat els dijous a la tarda un "despatx físic" a la seu de PIMEC (Viladomat 174 de Barcelona) per totes les persones que tinguin consultes o vulguin col·laborar amb la Junta de Govern.\nLes trobades són de 5 de la tarda a 8 del vespre.\n \nSi esteu interessats en assistir cal que envieu un correu a presidencia@acpri.cat\nUs hi esperem
URL:https://acpri.cat/event/temps-acpri-21/
CATEGORIES:Activitats ACPRI
ATTACH;FMTTYPE=image/jpeg:https://acpri.cat/wp-content/uploads/2018/09/activitats285.jpg
ORGANIZER;CN="Activitats ACPRI":MAILTO:acpri@acpri.cat
END:VEVENT
BEGIN:VEVENT
DTSTART;TZID=Europe/Madrid:20180614T170000
DTEND;TZID=Europe/Madrid:20180614T190000
DTSTAMP:20260422T235440
CREATED:20180614T150000Z
LAST-MODIFIED:20210316T141923Z
UID:17877-1528995600-1529002800@acpri.cat
SUMMARY:Temps ACPRI
DESCRIPTION:La Junta de Govern de l’ACPRI ha instaurat els dijous a la tarda un "despatx físic" a la seu de PIMEC (Viladomat 174 de Barcelona) per totes les persones que tinguin consultes o vulguin col·laborar amb la Junta de Govern.\nLes trobades són de 5 de la tarda a 8 del vespre.\n \nSi esteu interessats en assistir cal que envieu un correu a presidencia@acpri.cat\nUs hi esperem
URL:https://acpri.cat/event/temps-acpri-20/
CATEGORIES:Activitats ACPRI
ATTACH;FMTTYPE=image/jpeg:https://acpri.cat/wp-content/uploads/2018/09/activitats287.jpg
ORGANIZER;CN="Activitats ACPRI":MAILTO:acpri@acpri.cat
END:VEVENT
BEGIN:VEVENT
DTSTART;TZID=Europe/Madrid:20180621T170000
DTEND;TZID=Europe/Madrid:20180621T190000
DTSTAMP:20260422T235440
CREATED:20180621T150000Z
LAST-MODIFIED:20210316T141923Z
UID:17875-1529600400-1529607600@acpri.cat
SUMMARY:Temps ACPRI
DESCRIPTION:La Junta de Govern de l’ACPRI ha instaurat els dijous a la tarda un "despatx físic" a la seu de PIMEC (Viladomat 174 de Barcelona) per totes les persones que tinguin consultes o vulguin col·laborar amb la Junta de Govern.\nLes trobades són de 5 de la tarda a 8 del vespre. \nSi esteu interessats en assistir cal que envieu un correu a presidencia@acpri.cat\nUs hi esperem
URL:https://acpri.cat/event/temps-acpri-19/
CATEGORIES:Activitats ACPRI
ATTACH;FMTTYPE=image/jpeg:https://acpri.cat/wp-content/uploads/2018/09/activitats289.jpg
ORGANIZER;CN="Activitats ACPRI":MAILTO:acpri@acpri.cat
END:VEVENT
BEGIN:VEVENT
DTSTART;TZID=Europe/Madrid:20180628T190000
DTEND;TZID=Europe/Madrid:20180628T210000
DTSTAMP:20260422T235440
CREATED:20180628T170000Z
LAST-MODIFIED:20210316T141923Z
UID:17873-1530212400-1530219600@acpri.cat
SUMMARY:Assemblea Ordinària ACPRI 2018
DESCRIPTION:p>El proper dijous 28 de juny tindrà lloc l’Assemblea Ordinària de l’Associació Catalana de Protocol i Relacions Institucionals a les 7 de la tarda.\nEsperem ens pugis acompanyar. \nRecorda’t d’inscriure accedint amb les teves dades d’associat.\n(en cas de no recordar-les demana-les a webmaster@acpri.cat)  \n 
URL:https://acpri.cat/event/assemblea-ordinaria-acpri-2018/
CATEGORIES:Activitats ACPRI
ATTACH;FMTTYPE=image/jpeg:https://acpri.cat/wp-content/uploads/2018/09/activitats282.jpg
ORGANIZER;CN="Activitats ACPRI":MAILTO:acpri@acpri.cat
END:VEVENT
BEGIN:VEVENT
DTSTART;TZID=Europe/Madrid:20180628T200000
DTEND;TZID=Europe/Madrid:20180628T220000
DTSTAMP:20260422T235440
CREATED:20180628T180000Z
LAST-MODIFIED:20210316T141922Z
UID:17871-1530216000-1530223200@acpri.cat
SUMMARY:Trobada valoració Jurat Premis ACPRI 2018
DESCRIPTION:
URL:https://acpri.cat/event/trobada-valoracio-jurat-premis-acpri-2018/
CATEGORIES:Activitats ACPRI
ATTACH;FMTTYPE=image/jpeg:https://acpri.cat/wp-content/uploads/2018/09/activitats283.jpg
ORGANIZER;CN="Activitats ACPRI":MAILTO:acpri@acpri.cat
END:VEVENT
END:VCALENDAR