BEGIN:VCALENDAR
VERSION:2.0
PRODID:-//ACPRI - ECPv6.15.20//NONSGML v1.0//EN
CALSCALE:GREGORIAN
METHOD:PUBLISH
X-WR-CALNAME:ACPRI
X-ORIGINAL-URL:https://acpri.cat
X-WR-CALDESC:Esdeveniments per ACPRI
REFRESH-INTERVAL;VALUE=DURATION:PT1H
X-Robots-Tag:noindex
X-PUBLISHED-TTL:PT1H
BEGIN:VTIMEZONE
TZID:Europe/Madrid
BEGIN:DAYLIGHT
TZOFFSETFROM:+0100
TZOFFSETTO:+0200
TZNAME:CEST
DTSTART:20140330T010000
END:DAYLIGHT
BEGIN:STANDARD
TZOFFSETFROM:+0200
TZOFFSETTO:+0100
TZNAME:CET
DTSTART:20141026T010000
END:STANDARD
BEGIN:DAYLIGHT
TZOFFSETFROM:+0100
TZOFFSETTO:+0200
TZNAME:CEST
DTSTART:20150329T010000
END:DAYLIGHT
BEGIN:STANDARD
TZOFFSETFROM:+0200
TZOFFSETTO:+0100
TZNAME:CET
DTSTART:20151025T010000
END:STANDARD
BEGIN:DAYLIGHT
TZOFFSETFROM:+0100
TZOFFSETTO:+0200
TZNAME:CEST
DTSTART:20160327T010000
END:DAYLIGHT
BEGIN:STANDARD
TZOFFSETFROM:+0200
TZOFFSETTO:+0100
TZNAME:CET
DTSTART:20161030T010000
END:STANDARD
END:VTIMEZONE
BEGIN:VEVENT
DTSTART;TZID=Europe/Madrid:20150309T000000
DTEND;TZID=Europe/Madrid:20150309T020000
DTSTAMP:20260423T180047
CREATED:20150308T230000Z
LAST-MODIFIED:20210316T142028Z
UID:18002-1425859200-1425866400@acpri.cat
SUMMARY:I Congres 'Nuevos retos en los eventos deportivos -20 i 21 de març
DESCRIPTION:p>Des de la Comissió de Formació de l’ACPRI informen del I Congres "NUEVOS RETOS EN LOS EVENTOS DEPORTIVOS" promogut per la Universidad Camilo José Cela i que se celebrará els dies 20 i 21 de març. \nhttp://www.acpri.cat/web/index.php?secc=ass_acc&idCat=3 \n 
URL:https://acpri.cat/event/i-congres-nuevos-retos-en-los-eventos-deportivos-20-i-21-de-marc/
CATEGORIES:Altres
END:VEVENT
END:VCALENDAR