BEGIN:VCALENDAR
VERSION:2.0
PRODID:-//ACPRI - ECPv6.15.20//NONSGML v1.0//EN
CALSCALE:GREGORIAN
METHOD:PUBLISH
X-ORIGINAL-URL:https://acpri.cat
X-WR-CALDESC:Esdeveniments per ACPRI
REFRESH-INTERVAL;VALUE=DURATION:PT1H
X-Robots-Tag:noindex
X-PUBLISHED-TTL:PT1H
BEGIN:VTIMEZONE
TZID:Europe/Madrid
BEGIN:DAYLIGHT
TZOFFSETFROM:+0100
TZOFFSETTO:+0200
TZNAME:CEST
DTSTART:20120325T010000
END:DAYLIGHT
BEGIN:STANDARD
TZOFFSETFROM:+0200
TZOFFSETTO:+0100
TZNAME:CET
DTSTART:20121028T010000
END:STANDARD
BEGIN:DAYLIGHT
TZOFFSETFROM:+0100
TZOFFSETTO:+0200
TZNAME:CEST
DTSTART:20130331T010000
END:DAYLIGHT
BEGIN:STANDARD
TZOFFSETFROM:+0200
TZOFFSETTO:+0100
TZNAME:CET
DTSTART:20131027T010000
END:STANDARD
BEGIN:DAYLIGHT
TZOFFSETFROM:+0100
TZOFFSETTO:+0200
TZNAME:CEST
DTSTART:20140330T010000
END:DAYLIGHT
BEGIN:STANDARD
TZOFFSETFROM:+0200
TZOFFSETTO:+0100
TZNAME:CET
DTSTART:20141026T010000
END:STANDARD
END:VTIMEZONE
BEGIN:VEVENT
DTSTART;TZID=Europe/Madrid:20130410T093000
DTEND;TZID=Europe/Madrid:20130410T113000
DTSTAMP:20260425T200119
CREATED:20130410T073000Z
LAST-MODIFIED:20210316T142139Z
UID:18092-1365586200-1365593400@acpri.cat
SUMMARY:VII Jornades sobre protocol de la UNED a Madrid
DESCRIPTION:p>ACTIVITAT ORGANITZADA PER LA UNED A MADRID I AMB DESCOMPTE PER A SOCIS I SÒCIES D’ACPRI\nDEL 10 AL 12 D’ABRIL DE 2013 \nOrganitzat pels Cursos de Màster en Protocol\, Especialista en Comunicació\, Protocol i Relacions Públiques i Expert Universitari en Relacions Institucionals i Protocol\, Títols Propis de la UNED\, s’anuncien les VII JORNADES SOBRE PROTOCOL\, que sota el lema "Investigació i Desenvolupament"\, tindran lloc a la Facultat de Dret de la UNED\, els dies 10\, 11 i 12 d’abril de 2013\, carrer Obispo Trejo nº 2\, 28040 de Madrid. \nPreu general: 50 €\nSocis de l’Associació Catalana de Protocol i Relacions Institucionals (ACPRI) 20% de descompte prèvia acreditació de la condició d’associat.\nEl preu inclou la matriculació\, tota la documentació\, diploma d’assistència i dos àpats. \nEls assistents a les Jornades rebran el corresponent Diploma d’Assistència.\nDemanats 1 crèdit ECTS i 2 CRÈDITS DE LLIURE CONFIGURACIÓ. \nInscripció:\nhttp://www.fundacion.uned.es/actividad/idactividad/4590 \nInformació:\nhttp://www.uned.es/congreso-protocolo \njdolera@fundacion.uned.es \nTel.: 913867276\nMés informació:\nmdmsanchez@der.uned.es \nDíptic de les Jornades (en castellà)
URL:https://acpri.cat/event/vii-jornades-sobre-protocol-de-la-uned-a-madrid/
CATEGORIES:Altres
ATTACH;FMTTYPE=image/jpeg:https://acpri.cat/wp-content/uploads/2018/09/activitats165.jpg
END:VEVENT
END:VCALENDAR