BEGIN:VCALENDAR
VERSION:2.0
PRODID:-//ACPRI - ECPv6.15.19//NONSGML v1.0//EN
CALSCALE:GREGORIAN
METHOD:PUBLISH
X-ORIGINAL-URL:https://acpri.cat
X-WR-CALDESC:Esdeveniments per ACPRI
REFRESH-INTERVAL;VALUE=DURATION:PT1H
X-Robots-Tag:noindex
X-PUBLISHED-TTL:PT1H
BEGIN:VTIMEZONE
TZID:Europe/Madrid
BEGIN:DAYLIGHT
TZOFFSETFROM:+0100
TZOFFSETTO:+0200
TZNAME:CEST
DTSTART:20160327T010000
END:DAYLIGHT
BEGIN:STANDARD
TZOFFSETFROM:+0200
TZOFFSETTO:+0100
TZNAME:CET
DTSTART:20161030T010000
END:STANDARD
BEGIN:DAYLIGHT
TZOFFSETFROM:+0100
TZOFFSETTO:+0200
TZNAME:CEST
DTSTART:20170326T010000
END:DAYLIGHT
BEGIN:STANDARD
TZOFFSETFROM:+0200
TZOFFSETTO:+0100
TZNAME:CET
DTSTART:20171029T010000
END:STANDARD
BEGIN:DAYLIGHT
TZOFFSETFROM:+0100
TZOFFSETTO:+0200
TZNAME:CEST
DTSTART:20180325T010000
END:DAYLIGHT
BEGIN:STANDARD
TZOFFSETFROM:+0200
TZOFFSETTO:+0100
TZNAME:CET
DTSTART:20181028T010000
END:STANDARD
END:VTIMEZONE
BEGIN:VEVENT
DTSTART;TZID=Europe/Madrid:20170601T160000
DTEND;TZID=Europe/Madrid:20170601T180000
DTSTAMP:20260421T043009
CREATED:20170601T140000Z
LAST-MODIFIED:20210316T141944Z
UID:17916-1496332800-1496340000@acpri.cat
SUMMARY:V Congres Universitari de Comunicació i Esdeveniments
DESCRIPTION:strong>EL VALOR DELS ESDEVENIMENTS (#loquevale)\nMadrid 1\, 2 i 3 de juny de 2017\nhttp://www.congresocomunicacionyeventos.com/es/ \n \nDijous\, 1 de juny. (C / Moscatelar\, 23)\n \nTALLERS OPCIONALS\n \n16.00 h.\nRecollida de credencials\n \n16: 30h.\nExperiències i aportacions (format taller). Opcional. Cada participant ha d’inscriure en un taller (un cop s’ompli la quota es tancarà la inscripció; màxim per taller 40 persones; mínim 10 persones).\nTaller 1. Esdeveniments mediàtics o / i per a la televisió. Guió\, Producció i Protocol. Necessitats bàsiques de Realització. Ús adequat de colors i espais en l’era digital.\nTaller 2. Tendències de dinamització i entreteniment en els esdeveniments corporatius i institucionals.\nTaller 3. Tendències en escenografia i disseny d’interiors en els esdeveniments. Gestió d’espais.\nTaller 4. Com captar l’atenció dels mitjans: desenvolupament d’accions de premsa que generin impacte.\nTaller 5. Tendències i innovacions en els esdeveniments socials. Reptes del sector Wedding Planner.\nTaller 6. L’organització d’esdeveniments oficials i el seu protocol. Anàlisi i valoració dels canvis a través de casos pràctics.\nSala de Ponències i comunicacions: exposició de comunicacions i ponències presentades oficialment pels professionals o investigadors (sense cost addicional). Accés lliure i sense mínim d’assistència.\n \n19.00 h.\nFi dels tallers\, ponències i comunicacions
URL:https://acpri.cat/event/v-congres-universitari-de-comunicacio-i-esdeveniments-3/
CATEGORIES:Altres
ATTACH;FMTTYPE=image/jpeg:https://acpri.cat/wp-content/uploads/2018/09/activitats259.jpg
END:VEVENT
BEGIN:VEVENT
DTSTART;TZID=Europe/Madrid:20170602T093000
DTEND;TZID=Europe/Madrid:20170602T113000
DTSTAMP:20260421T043009
CREATED:20170602T073000Z
LAST-MODIFIED:20210316T141943Z
UID:17914-1496395800-1496403000@acpri.cat
SUMMARY:V Congres Universitari de Comunicació i Esdeveniments
DESCRIPTION:strong>\nEL VALOR DELS ESDEVENIMENTS (#loquevale)\nMadrid 1\, 2 i 3 de juny de 2017\nhttp://www.congresocomunicacionyeventos.com/es/\n \nDivendres\, 2 de juny. (Hotel Porta d’Amèrica) \n9.00 h.\nLliurament de credencials per als que no assisteixin als tallers.\n \n9:30 h.\nInauguració oficial de les sessions plenàries del Congrés.\n \n10.00 h.\nPonència inaugural. L’estat actual del sector dels esdeveniments a Espanya i al món i la seva projecció de futur.\n \n11.30 h.\nDescans. Cafè.\n \n12.00 h.\nPonència. La importància de saber mesurar el ROI. Com programar un esdeveniment que permeti obtenir dades fiables de resultats?\n \n12.45 h.\nPonència. El paper del gestor de comptes\, l’atenció al client i proveïdors\, la presentació de projectes i l’elaboració de pressupostos.\n \n13.30 h.\nPonència. Panorama\, anàlisi i propostes de millora dels processos de concurs i licitacions al sector.\n \n14.15 h.\nFi de les sessions del matí.\n \n16.00 h.\nPonència. El web de l’esdeveniment. Com s’ha de plantejar i com convertir-la en un important instrument de comunicació interna i externa?\n \n16.45 h.\nPonència. Com gestionar la captació de patrocinadors d’esdeveniments públics i privats i la possible influència d’aquests en el disseny i execució de l’esdeveniment?\n \n17.30 h.\nPonència. L’aportació del protocol en els esdeveniments no oficials. El seu valor econòmic.\n \n18.15 h.\nEl valor de la música. Com han de sonar els esdeveniments?\n \n19.00 h.\nFi de les sessions de la jornada
URL:https://acpri.cat/event/v-congres-universitari-de-comunicacio-i-esdeveniments-2/
CATEGORIES:Altres
ATTACH;FMTTYPE=image/jpeg:https://acpri.cat/wp-content/uploads/2018/09/activitats260.jpg
END:VEVENT
BEGIN:VEVENT
DTSTART;TZID=Europe/Madrid:20170603T090000
DTEND;TZID=Europe/Madrid:20170603T110000
DTSTAMP:20260421T043009
CREATED:20170603T070000Z
LAST-MODIFIED:20210316T141943Z
UID:17912-1496480400-1496487600@acpri.cat
SUMMARY:V Congres Universitari de Comunicació i Esdeveniments
DESCRIPTION:strong>\nEL VALOR DELS ESDEVENIMENTS (#loquevale)\nMadrid 1\, 2 i 3 de juny de 2017\nhttp://www.congresocomunicacionyeventos.com/es/\n\n \nDissabte\, 3 de juny. (Hotel Porta d’Amèrica).\n \n9.00 h.\nL’aportació dels nous càterings tematitzats al resultat dels esdeveniments. El valor de la gastronomia.\n \n09.45 h.\nEsdeveniments de Moda. Aportacions creatives al sector.\n \n10.30 h.\nDescans. Cafè.\n \n11.00 h.\nEl valor de la imatge institucional. La posada en escena dels esdeveniments oficials.\n \n11.45 h.\nPonència de clausura. L’ètica i la bones pràctiques en el sector professional. El valor general de la professió.\n \n12.45 h.\nTancament oficial del Congrés.\n \n13.00 h.\nCòctel de cloenda
URL:https://acpri.cat/event/v-congres-universitari-de-comunicacio-i-esdeveniments/
CATEGORIES:Altres
ATTACH;FMTTYPE=image/jpeg:https://acpri.cat/wp-content/uploads/2018/09/activitats261.jpg
END:VEVENT
END:VCALENDAR