BEGIN:VCALENDAR
VERSION:2.0
PRODID:-//ACPRI - ECPv6.15.19//NONSGML v1.0//EN
CALSCALE:GREGORIAN
METHOD:PUBLISH
X-ORIGINAL-URL:https://acpri.cat
X-WR-CALDESC:Esdeveniments per ACPRI
REFRESH-INTERVAL;VALUE=DURATION:PT1H
X-Robots-Tag:noindex
X-PUBLISHED-TTL:PT1H
BEGIN:VTIMEZONE
TZID:Europe/Madrid
BEGIN:DAYLIGHT
TZOFFSETFROM:+0100
TZOFFSETTO:+0200
TZNAME:CEST
DTSTART:20160327T010000
END:DAYLIGHT
BEGIN:STANDARD
TZOFFSETFROM:+0200
TZOFFSETTO:+0100
TZNAME:CET
DTSTART:20161030T010000
END:STANDARD
BEGIN:DAYLIGHT
TZOFFSETFROM:+0100
TZOFFSETTO:+0200
TZNAME:CEST
DTSTART:20170326T010000
END:DAYLIGHT
BEGIN:STANDARD
TZOFFSETFROM:+0200
TZOFFSETTO:+0100
TZNAME:CET
DTSTART:20171029T010000
END:STANDARD
BEGIN:DAYLIGHT
TZOFFSETFROM:+0100
TZOFFSETTO:+0200
TZNAME:CEST
DTSTART:20180325T010000
END:DAYLIGHT
BEGIN:STANDARD
TZOFFSETFROM:+0200
TZOFFSETTO:+0100
TZNAME:CET
DTSTART:20181028T010000
END:STANDARD
END:VTIMEZONE
BEGIN:VEVENT
DTSTART;TZID=Europe/Madrid:20170517T180000
DTEND;TZID=Europe/Madrid:20170517T200000
DTSTAMP:20260421T062408
CREATED:20170517T160000Z
LAST-MODIFIED:20210316T141946Z
UID:17920-1495044000-1495051200@acpri.cat
SUMMARY:Debat-Col·loqui sobre Comunicació Interna a la UOC
DESCRIPTION:El proper dimecres 17 de maig de 18h a 19.15h El tema escollit per a aquesta edició és COMUNICACIÓ INTERNA: REPTES DE FUTUR.tindrà lloc la primera edició dels Debats-Col·loqui del Màster universitari de Comunicació corporativa\, protocol i esdeveniments de la UOC. \nL’acte se celebrarà a la Sala Laporte de la Universitat Oberta de Catalunya (Av. Tibidabo\, 39-43. Barcelona). \nEn aquest debat comptarem amb la presència de reconeguts professionals\, qui ens donaran els seus punts de vista sobre l’estat actual i els reptes que afronta la comunicació interna dins les empreses i les institucions. \nEl format col·loqui de l’acte permetrà la participació activa dels assistents.\nPonents:\n·Maria Rodríguez\, directora de Comunicació interna\, Desenvolupament i Atenció al Personal i Gerència de Recursos Humans i Organització a l’Ajuntament de Barcelona.\n·Albert Piqué\, director de Comunicació interna de TMB.\n·Joan Cuenca\, professor col·laborador de l’assignatura Comunicació interna del Màster universitari de Comunicació corporativa\, Protocol i Esdeveniments de la UOC.\n·Enric Almuzara\, manager de Desenvolupament de Persones del RACC.\n·Laura Verazzi\, cofundadora i directora de Vector C\, consultora especialitzada en comunicació interna.\n·Cristina Salvador\, directora de aPortada\, agència amb serveis en Comunicació interna.\n·Elisenda Estanyol\, directora acadèmica del màster universitari de Comunicació corporativa\, protocol i esdeveniments de la UOC. \nL’acte és gratuït\, però cal inscripció prèvia. \nPer a més informació i inscripcions:\nhttps://symposium.uoc.edu/event_detail/9538/detail/debat-colmloqui_-comunicacio-interna.html
URL:https://acpri.cat/event/debat-colloqui-sobre-comunicacio-interna-a-la-uoc/
CATEGORIES:Altres
ATTACH;FMTTYPE=image/jpeg:https://acpri.cat/wp-content/uploads/2018/09/activitats264.jpg
END:VEVENT
END:VCALENDAR