BEGIN:VCALENDAR
VERSION:2.0
PRODID:-//ACPRI - ECPv6.15.19//NONSGML v1.0//EN
CALSCALE:GREGORIAN
METHOD:PUBLISH
X-WR-CALNAME:ACPRI
X-ORIGINAL-URL:https://acpri.cat
X-WR-CALDESC:Esdeveniments per ACPRI
REFRESH-INTERVAL;VALUE=DURATION:PT1H
X-Robots-Tag:noindex
X-PUBLISHED-TTL:PT1H
BEGIN:VTIMEZONE
TZID:Europe/Madrid
BEGIN:DAYLIGHT
TZOFFSETFROM:+0100
TZOFFSETTO:+0200
TZNAME:CEST
DTSTART:20160327T010000
END:DAYLIGHT
BEGIN:STANDARD
TZOFFSETFROM:+0200
TZOFFSETTO:+0100
TZNAME:CET
DTSTART:20161030T010000
END:STANDARD
BEGIN:DAYLIGHT
TZOFFSETFROM:+0100
TZOFFSETTO:+0200
TZNAME:CEST
DTSTART:20170326T010000
END:DAYLIGHT
BEGIN:STANDARD
TZOFFSETFROM:+0200
TZOFFSETTO:+0100
TZNAME:CET
DTSTART:20171029T010000
END:STANDARD
BEGIN:DAYLIGHT
TZOFFSETFROM:+0100
TZOFFSETTO:+0200
TZNAME:CEST
DTSTART:20180325T010000
END:DAYLIGHT
BEGIN:STANDARD
TZOFFSETFROM:+0200
TZOFFSETTO:+0100
TZNAME:CET
DTSTART:20181028T010000
END:STANDARD
END:VTIMEZONE
BEGIN:VEVENT
DTSTART;TZID=Europe/Madrid:20170405T183000
DTEND;TZID=Europe/Madrid:20170405T203000
DTSTAMP:20260420T221419
CREATED:20170405T163000Z
LAST-MODIFIED:20210316T141950Z
UID:17928-1491417000-1491424200@acpri.cat
SUMMARY:Assemblea Ordinària ACPRI 2017
DESCRIPTION:
URL:https://acpri.cat/event/assemblea-ordinaria-acpri-2017/
CATEGORIES:Activitats ACPRI
ATTACH;FMTTYPE=image/jpeg:https://acpri.cat/wp-content/uploads/2018/09/activitats257.jpg
ORGANIZER;CN="Activitats ACPRI":MAILTO:acpri@acpri.cat
END:VEVENT
BEGIN:VEVENT
DTSTART;TZID=Europe/Madrid:20170405T190000
DTEND;TZID=Europe/Madrid:20170405T210000
DTSTAMP:20260420T221419
CREATED:20170405T170000Z
LAST-MODIFIED:20210316T141950Z
UID:17926-1491418800-1491426000@acpri.cat
SUMMARY:Eleccions a la Junta de Govern de l'ACPRI - 2017
DESCRIPTION:p>A l’Assemblea Extraordinària celebrada l’11 de gener es van aprovar els nous Estatuts de l’Associació per adequar-los a la legislació vigent. En aquesta mateixa Assemblea es va fer saber que la Junta de Govern actual cessaria per convocar unes noves eleccions que tindran lloc el proper dia 5 d’abril. \nNORMES DE PROCEDIMENT ELECTORAL \nCALENDARI ELECTORAL \nCONVOCATÒRIA \n \nCANDIDATURES \nNota sobre la candidatura: Us fem saber que la candidatura que es va penjar el primer dia no era completa. Es van escanejar les cares de davant del document i no les posteriors\, aixi que va sortir escapçat\, només fulls imparells. En aquest document que hi ha és el complet. Disculpeu les molèsties
URL:https://acpri.cat/event/eleccions-a-la-junta-de-govern-de-lacpri-2017/
CATEGORIES:Activitats ACPRI
ATTACH;FMTTYPE=image/jpeg:https://acpri.cat/wp-content/uploads/2018/09/activitats256.jpg
ORGANIZER;CN="Activitats ACPRI":MAILTO:acpri@acpri.cat
END:VEVENT
END:VCALENDAR