BEGIN:VCALENDAR
VERSION:2.0
PRODID:-//ACPRI - ECPv6.15.19//NONSGML v1.0//EN
CALSCALE:GREGORIAN
METHOD:PUBLISH
X-WR-CALNAME:ACPRI
X-ORIGINAL-URL:https://acpri.cat
X-WR-CALDESC:Esdeveniments per ACPRI
REFRESH-INTERVAL;VALUE=DURATION:PT1H
X-Robots-Tag:noindex
X-PUBLISHED-TTL:PT1H
BEGIN:VTIMEZONE
TZID:Europe/Madrid
BEGIN:DAYLIGHT
TZOFFSETFROM:+0100
TZOFFSETTO:+0200
TZNAME:CEST
DTSTART:20150329T010000
END:DAYLIGHT
BEGIN:STANDARD
TZOFFSETFROM:+0200
TZOFFSETTO:+0100
TZNAME:CET
DTSTART:20151025T010000
END:STANDARD
BEGIN:DAYLIGHT
TZOFFSETFROM:+0100
TZOFFSETTO:+0200
TZNAME:CEST
DTSTART:20160327T010000
END:DAYLIGHT
BEGIN:STANDARD
TZOFFSETFROM:+0200
TZOFFSETTO:+0100
TZNAME:CET
DTSTART:20161030T010000
END:STANDARD
BEGIN:DAYLIGHT
TZOFFSETFROM:+0100
TZOFFSETTO:+0200
TZNAME:CEST
DTSTART:20170326T010000
END:DAYLIGHT
BEGIN:STANDARD
TZOFFSETFROM:+0200
TZOFFSETTO:+0100
TZNAME:CET
DTSTART:20171029T010000
END:STANDARD
END:VTIMEZONE
BEGIN:VEVENT
DTSTART;TZID=Europe/Madrid:20160929T193000
DTEND;TZID=Europe/Madrid:20160929T213000
DTSTAMP:20260421T143133
CREATED:20160929T173000Z
LAST-MODIFIED:20210316T141952Z
UID:17940-1475177400-1475184600@acpri.cat
SUMMARY:Lliurament Titols de Mestratge en Protocol i Relacions Institucionals
DESCRIPTION:p>El proper dijous 29 de setembre a dos quarts de vuit del vespre (19:30) tindrà lloc la segona edició del lliurament de Títols de Mestratge en Protocol i Relacions Institucionals a aquells associats que ja han arribat a l’edat de jubilació.\nIgual que a la primera edició que es va fer fa cinc anys\, l’acte tindrà lloc al Palau de Pedralbes de Barcelona. \nRELACIÓ DE MESTRES EN PROTOCOL I RELACIONS INSTITUCIONALS 2016 \nGlòria Ballús Casoliva\nJosep Canadell Armengol\nMaribel Cayuelas Bueras\nManel Garrido Pérez\nJavier Heras Caballero\nJosep Maria Martí Cardús\nRosa Martin Pagès\nAnna Pladevall Miñarro\nRaul Rancé Barón\nJosep Sabaté Amorós \n \nPodeu confirmar assistència per la pròpia web o al correu presidencia@acpri.cat
URL:https://acpri.cat/event/lliurament-titols-de-mestratge-en-protocol-i-relacions-institucionals/
CATEGORIES:Activitats ACPRI
ATTACH;FMTTYPE=image/jpeg:https://acpri.cat/wp-content/uploads/2018/09/activitats251.jpg
ORGANIZER;CN="Activitats ACPRI":MAILTO:acpri@acpri.cat
END:VEVENT
END:VCALENDAR