BEGIN:VCALENDAR
VERSION:2.0
PRODID:-//ACPRI - ECPv6.15.20//NONSGML v1.0//EN
CALSCALE:GREGORIAN
METHOD:PUBLISH
X-ORIGINAL-URL:https://acpri.cat
X-WR-CALDESC:Esdeveniments per ACPRI
REFRESH-INTERVAL;VALUE=DURATION:PT1H
X-Robots-Tag:noindex
X-PUBLISHED-TTL:PT1H
BEGIN:VTIMEZONE
TZID:Europe/Madrid
BEGIN:DAYLIGHT
TZOFFSETFROM:+0100
TZOFFSETTO:+0200
TZNAME:CEST
DTSTART:20150329T010000
END:DAYLIGHT
BEGIN:STANDARD
TZOFFSETFROM:+0200
TZOFFSETTO:+0100
TZNAME:CET
DTSTART:20151025T010000
END:STANDARD
BEGIN:DAYLIGHT
TZOFFSETFROM:+0100
TZOFFSETTO:+0200
TZNAME:CEST
DTSTART:20160327T010000
END:DAYLIGHT
BEGIN:STANDARD
TZOFFSETFROM:+0200
TZOFFSETTO:+0100
TZNAME:CET
DTSTART:20161030T010000
END:STANDARD
BEGIN:DAYLIGHT
TZOFFSETFROM:+0100
TZOFFSETTO:+0200
TZNAME:CEST
DTSTART:20170326T010000
END:DAYLIGHT
BEGIN:STANDARD
TZOFFSETFROM:+0200
TZOFFSETTO:+0100
TZNAME:CET
DTSTART:20171029T010000
END:STANDARD
END:VTIMEZONE
BEGIN:VEVENT
DTSTART;TZID=Europe/Madrid:20160621T190000
DTEND;TZID=Europe/Madrid:20160621T210000
DTSTAMP:20260421T222651
CREATED:20160621T170000Z
LAST-MODIFIED:20210316T142006Z
UID:17954-1466535600-1466542800@acpri.cat
SUMMARY:Els Debats de l'ACPRI: PROTOCOL\, QUO VADIS
DESCRIPTION:p>El proper dimarts 21 de juny tindrà lloc la primera edició dels Debats de l’ACPRI. I el tema escollit és PROTOCOL\, QUO VADIS.  \nEn aquest debat comptarem amb la presència de professionals d’alt nivell qui ens donaran els seus punts de vista des de la Institució\, l’Empresa i el món Acadèmic amb un col·loqui posterior amb els assistents per poder debatre sobre la nostra professió\, l’estat en què es troba\, el futur\, què podem fer els professionals … \n    Carles Fabró\, director del Gabinet de Relacions Externes i Protocol de la Generalitat de Catalunya (com a Instució); \n    Sergi Loughney\, director de Relacions Institucionals i RSC a Abertis i director de la Fundació Abertis (com a Empresa); \n    Elisenda Estanyol\, directora acadèmica del Màster Universitari de Comunicació Corporativa\, Protocol i Esdeveniments de la Universitat Oberta de Catalunya (UOC) -primer oficial a Catalunya- en modalitat online (com a ensenyament); \n    Esther Otero\, directora acadèmica de l’Escola Internacional de Protocol de Barcelona (EIP)\, que imparteixen graus i màsters de protocol\, en modalitat presencial i semipresencial (com a ensenyament) \nUs esperem a les 7 de la tarda a la seu d’ABERTIS a l’avinguda de Pedralbes\, 17\, de Barcelona. \nPer requisits de l’espai on es farà el debat cal fer confirmació d’assistència al correu webmaster@acpri.cat\nSi ets soci ho pots fer directament a la web (accedint amb les teves dades d’associat)
URL:https://acpri.cat/event/els-debats-de-lacpri-protocol-quo-vadis/
CATEGORIES:Activitats ACPRI
ATTACH;FMTTYPE=image/jpeg:https://acpri.cat/wp-content/uploads/2018/09/activitats243.jpg
ORGANIZER;CN="Activitats ACPRI":MAILTO:acpri@acpri.cat
END:VEVENT
END:VCALENDAR