BEGIN:VCALENDAR
VERSION:2.0
PRODID:-//ACPRI - ECPv6.15.20//NONSGML v1.0//EN
CALSCALE:GREGORIAN
METHOD:PUBLISH
X-ORIGINAL-URL:https://acpri.cat
X-WR-CALDESC:Esdeveniments per ACPRI
REFRESH-INTERVAL;VALUE=DURATION:PT1H
X-Robots-Tag:noindex
X-PUBLISHED-TTL:PT1H
BEGIN:VTIMEZONE
TZID:Europe/Madrid
BEGIN:DAYLIGHT
TZOFFSETFROM:+0100
TZOFFSETTO:+0200
TZNAME:CEST
DTSTART:20140330T010000
END:DAYLIGHT
BEGIN:STANDARD
TZOFFSETFROM:+0200
TZOFFSETTO:+0100
TZNAME:CET
DTSTART:20141026T010000
END:STANDARD
BEGIN:DAYLIGHT
TZOFFSETFROM:+0100
TZOFFSETTO:+0200
TZNAME:CEST
DTSTART:20150329T010000
END:DAYLIGHT
BEGIN:STANDARD
TZOFFSETFROM:+0200
TZOFFSETTO:+0100
TZNAME:CET
DTSTART:20151025T010000
END:STANDARD
BEGIN:DAYLIGHT
TZOFFSETFROM:+0100
TZOFFSETTO:+0200
TZNAME:CEST
DTSTART:20160327T010000
END:DAYLIGHT
BEGIN:STANDARD
TZOFFSETFROM:+0200
TZOFFSETTO:+0100
TZNAME:CET
DTSTART:20161030T010000
END:STANDARD
END:VTIMEZONE
BEGIN:VEVENT
DTSTART;TZID=Europe/Madrid:20151114T093000
DTEND;TZID=Europe/Madrid:20151114T113000
DTSTAMP:20260422T110440
CREATED:20151114T083000Z
LAST-MODIFIED:20210316T142015Z
UID:17980-1447493400-1447500600@acpri.cat
SUMMARY:Esmorzar de Forquilla: Ramon Pujol
DESCRIPTION:Continuen els ESMORZARS DE FORQUILLA de l’ACPRI\, una trobada entre els associats i les associades on\, mentre esmorzem\, departirem una estona amb la presència d’un convidat.\nAquests ESMORZARS es faran en dissabte al matí a l’Hotel Colon de Barcelona a 2/4 de 10 del matí (durada prevista fins les 12 del migdia). \nAquest tercer ESMORZAR DE FORQUILLA tindrà lloc el dissabte 14 de novembre i comptarà amb la presència del Sr. Ramon Pujol\, director de relacions institucionals i cap de protocol del FC Barcelona fins setembre de 2015\, que parlarà sobre el funcionament del protocol al club esportiu. \nPer apuntar-vos a l’esmorzar cal que envieu un correu amb les vostres dades (nom i cognoms i número d’associat) a socis@acpri.cat \nUn cop rebem aquest correu us enviarem el compte on heu de fer l’ingrés de l’ESMORZAR (20€) que un cop fet quedarà formalitzada la vostra inscripció (rebreu un correu on se us comunicarà que esteu inscrits)
URL:https://acpri.cat/event/esmorzar-de-forquilla-ramon-pujol/
CATEGORIES:Activitats ACPRI
ATTACH;FMTTYPE=image/jpeg:https://acpri.cat/wp-content/uploads/2018/09/activitats230.jpg
ORGANIZER;CN="Activitats ACPRI":MAILTO:acpri@acpri.cat
END:VEVENT
END:VCALENDAR