BEGIN:VCALENDAR
VERSION:2.0
PRODID:-//ACPRI - ECPv6.15.20//NONSGML v1.0//EN
CALSCALE:GREGORIAN
METHOD:PUBLISH
X-WR-CALNAME:ACPRI
X-ORIGINAL-URL:https://acpri.cat
X-WR-CALDESC:Esdeveniments per ACPRI
REFRESH-INTERVAL;VALUE=DURATION:PT1H
X-Robots-Tag:noindex
X-PUBLISHED-TTL:PT1H
BEGIN:VTIMEZONE
TZID:Europe/Madrid
BEGIN:DAYLIGHT
TZOFFSETFROM:+0100
TZOFFSETTO:+0200
TZNAME:CEST
DTSTART:20140330T010000
END:DAYLIGHT
BEGIN:STANDARD
TZOFFSETFROM:+0200
TZOFFSETTO:+0100
TZNAME:CET
DTSTART:20141026T010000
END:STANDARD
BEGIN:DAYLIGHT
TZOFFSETFROM:+0100
TZOFFSETTO:+0200
TZNAME:CEST
DTSTART:20150329T010000
END:DAYLIGHT
BEGIN:STANDARD
TZOFFSETFROM:+0200
TZOFFSETTO:+0100
TZNAME:CET
DTSTART:20151025T010000
END:STANDARD
BEGIN:DAYLIGHT
TZOFFSETFROM:+0100
TZOFFSETTO:+0200
TZNAME:CEST
DTSTART:20160327T010000
END:DAYLIGHT
BEGIN:STANDARD
TZOFFSETFROM:+0200
TZOFFSETTO:+0100
TZNAME:CET
DTSTART:20161030T010000
END:STANDARD
END:VTIMEZONE
BEGIN:VEVENT
DTSTART;TZID=Europe/Madrid:20150714T183000
DTEND;TZID=Europe/Madrid:20150714T203000
DTSTAMP:20260423T020451
CREATED:20150714T163000Z
LAST-MODIFIED:20210316T142019Z
UID:17986-1436898600-1436905800@acpri.cat
SUMMARY:Debats de Protocol d'Empresa: El Protocol a la Gastronomia
DESCRIPTION:p>El volem convidar a la 5a edició de Debats de Protocol d’Empresa\, que aquest any tractarà sobre “El protocol en la gastronomia”\, organitzada per la Comissió d’Empresa de l’Associació Catalanal de Protocol i Relacions Institucionals (ACPRI)\, on il·lustríssims xefs ens captivaran amb les seves experiències.  \nData:       Dimarts\, 14 de juliol de 2015\nHora:       2/4 de 7 de la tarda\nDurada:   1h\nLloc:        Auditori de Gas Natural Fenosa (plaça del Gas\, 1. Barcelona) \nL’organització li agrairà que: \n· Sigui puntual per al bon desenvolupament dels debats.\n· Ompli el formulari següent: https://jacquelineruiz.wufoo.com/forms/z7x4m1/\n· En cas de venir amb acompanyants\, s’inscriguin a través del link anterior. \n· Si finalment no hi pogués assistir\, ens ho comuniqui per tal de poder alliberar la seva plaça.\n \nCOMISSIÓ D’EMPRESA DE L’ACPRI \nPROGRAMA "EL PROTOCOL EN LA GASTRONOMIA"
URL:https://acpri.cat/event/debats-de-protocol-dempresa-el-protocol-a-la-gastronomia/
CATEGORIES:Activitats ACPRI
ORGANIZER;CN="Activitats ACPRI":MAILTO:acpri@acpri.cat
END:VEVENT
END:VCALENDAR