BEGIN:VCALENDAR
VERSION:2.0
PRODID:-//ACPRI - ECPv6.15.20//NONSGML v1.0//EN
CALSCALE:GREGORIAN
METHOD:PUBLISH
X-WR-CALNAME:ACPRI
X-ORIGINAL-URL:https://acpri.cat
X-WR-CALDESC:Esdeveniments per ACPRI
REFRESH-INTERVAL;VALUE=DURATION:PT1H
X-Robots-Tag:noindex
X-PUBLISHED-TTL:PT1H
BEGIN:VTIMEZONE
TZID:Europe/Madrid
BEGIN:DAYLIGHT
TZOFFSETFROM:+0100
TZOFFSETTO:+0200
TZNAME:CEST
DTSTART:20140330T010000
END:DAYLIGHT
BEGIN:STANDARD
TZOFFSETFROM:+0200
TZOFFSETTO:+0100
TZNAME:CET
DTSTART:20141026T010000
END:STANDARD
BEGIN:DAYLIGHT
TZOFFSETFROM:+0100
TZOFFSETTO:+0200
TZNAME:CEST
DTSTART:20150329T010000
END:DAYLIGHT
BEGIN:STANDARD
TZOFFSETFROM:+0200
TZOFFSETTO:+0100
TZNAME:CET
DTSTART:20151025T010000
END:STANDARD
BEGIN:DAYLIGHT
TZOFFSETFROM:+0100
TZOFFSETTO:+0200
TZNAME:CEST
DTSTART:20160327T010000
END:DAYLIGHT
BEGIN:STANDARD
TZOFFSETFROM:+0200
TZOFFSETTO:+0100
TZNAME:CET
DTSTART:20161030T010000
END:STANDARD
END:VTIMEZONE
BEGIN:VEVENT
DTSTART;TZID=Europe/Madrid:20150115T190000
DTEND;TZID=Europe/Madrid:20150115T210000
DTSTAMP:20260423T134526
CREATED:20150115T180000Z
LAST-MODIFIED:20210316T142032Z
UID:18006-1421348400-1421355600@acpri.cat
SUMMARY:Presentació llibre Carles Cortina a Madrid
DESCRIPTION:strong>Presentació del llibre: ‘El ceremonial de la Patum. De la procesión del Corpus Christi a la Plaça Cremada’\, de Carles Cortina\, secretari de l’ACPRI\n\n\nEs tracta del seu treball de final de màster de Direcció de Protocol\, Producció\, Organització i Disseny d’Esdeveniments\, que ha cursat a la Universitat Camilo José Cela de Madrid i per aquest motiu està escrit en castellà. Una obra que\, tal com descriu Cortina\, “a diferència del que s’ha fet sempre d’estudiar la Patum en temes d’història\, de sociologia\, d’antropologia\, de folklore… aquest llibre analitza la Patum a través de les disciplines del cerimonial i del protocol\, i alhora reivindica la seva importància en l’arrelament d’aquesta manifestació eucarística en l’ànima del poble”. \nAquest acte tindrà lloc el proper dijous 15 de gener a les 7 de la tarda al Centre Cultural Blanquerna de Madrid (Alcalá\, 44) \nMés informació 
URL:https://acpri.cat/event/presentacio-llibre-carles-cortina-a-madrid/
CATEGORIES:Activitats ACPRI
ORGANIZER;CN="Activitats ACPRI":MAILTO:acpri@acpri.cat
END:VEVENT
END:VCALENDAR