BEGIN:VCALENDAR
VERSION:2.0
PRODID:-//ACPRI - ECPv6.15.20//NONSGML v1.0//EN
CALSCALE:GREGORIAN
METHOD:PUBLISH
X-ORIGINAL-URL:https://acpri.cat
X-WR-CALDESC:Esdeveniments per ACPRI
REFRESH-INTERVAL;VALUE=DURATION:PT1H
X-Robots-Tag:noindex
X-PUBLISHED-TTL:PT1H
BEGIN:VTIMEZONE
TZID:Europe/Madrid
BEGIN:DAYLIGHT
TZOFFSETFROM:+0100
TZOFFSETTO:+0200
TZNAME:CEST
DTSTART:20130331T010000
END:DAYLIGHT
BEGIN:STANDARD
TZOFFSETFROM:+0200
TZOFFSETTO:+0100
TZNAME:CET
DTSTART:20131027T010000
END:STANDARD
BEGIN:DAYLIGHT
TZOFFSETFROM:+0100
TZOFFSETTO:+0200
TZNAME:CEST
DTSTART:20140330T010000
END:DAYLIGHT
BEGIN:STANDARD
TZOFFSETFROM:+0200
TZOFFSETTO:+0100
TZNAME:CET
DTSTART:20141026T010000
END:STANDARD
BEGIN:DAYLIGHT
TZOFFSETFROM:+0100
TZOFFSETTO:+0200
TZNAME:CEST
DTSTART:20150329T010000
END:DAYLIGHT
BEGIN:STANDARD
TZOFFSETFROM:+0200
TZOFFSETTO:+0100
TZNAME:CET
DTSTART:20151025T010000
END:STANDARD
END:VTIMEZONE
BEGIN:VEVENT
DTSTART;TZID=Europe/Madrid:20140702T000000
DTEND;TZID=Europe/Madrid:20140702T020000
DTSTAMP:20260424T011002
CREATED:20140701T220000Z
LAST-MODIFIED:20210316T142050Z
UID:18026-1404259200-1404266400@acpri.cat
SUMMARY:AJORNADA A SETEMBRE!  Visita institucional ACPRI al Parlament de Catalunya
DESCRIPTION:PER PROBLEMES HORARIS AMB EL PARLAMENT HEM CONVINGUT AJORNAR AQUESTA VISITA AL MES DE SETEMBRE.\nTAN BON PUNT TINGUEM LA NOVA DATA US LA FAREM SABER. \nDISCULPEU LES MOLÈSTIES \n\n\n\n\nNo us perdeu aquesta nova activitat d’interès per a tots nosaltres! \nEl Parlament de Catalunya ens obrirà les portes de la mà del seu departament de protocol\, que ens explicarà quina és la seva tasca principal. \nEns veurem allà! Fins aleshores\n\nComissió de Relacions Institucionals de l’ACPRI
URL:https://acpri.cat/event/ajornada-a-setembre-visita-institucional-acpri-al-parlament-de-catalunya/
CATEGORIES:Activitats ACPRI
ATTACH;FMTTYPE=image/jpeg:https://acpri.cat/wp-content/uploads/2018/09/activitats203.jpg
ORGANIZER;CN="Activitats ACPRI":MAILTO:acpri@acpri.cat
END:VEVENT
END:VCALENDAR