BEGIN:VCALENDAR
VERSION:2.0
PRODID:-//ACPRI - ECPv6.15.20//NONSGML v1.0//EN
CALSCALE:GREGORIAN
METHOD:PUBLISH
X-ORIGINAL-URL:https://acpri.cat
X-WR-CALDESC:Esdeveniments per ACPRI
REFRESH-INTERVAL;VALUE=DURATION:PT1H
X-Robots-Tag:noindex
X-PUBLISHED-TTL:PT1H
BEGIN:VTIMEZONE
TZID:Europe/Madrid
BEGIN:DAYLIGHT
TZOFFSETFROM:+0100
TZOFFSETTO:+0200
TZNAME:CEST
DTSTART:20130331T010000
END:DAYLIGHT
BEGIN:STANDARD
TZOFFSETFROM:+0200
TZOFFSETTO:+0100
TZNAME:CET
DTSTART:20131027T010000
END:STANDARD
BEGIN:DAYLIGHT
TZOFFSETFROM:+0100
TZOFFSETTO:+0200
TZNAME:CEST
DTSTART:20140330T010000
END:DAYLIGHT
BEGIN:STANDARD
TZOFFSETFROM:+0200
TZOFFSETTO:+0100
TZNAME:CET
DTSTART:20141026T010000
END:STANDARD
BEGIN:DAYLIGHT
TZOFFSETFROM:+0100
TZOFFSETTO:+0200
TZNAME:CEST
DTSTART:20150329T010000
END:DAYLIGHT
BEGIN:STANDARD
TZOFFSETFROM:+0200
TZOFFSETTO:+0100
TZNAME:CET
DTSTART:20151025T010000
END:STANDARD
END:VTIMEZONE
BEGIN:VEVENT
DTSTART;TZID=Europe/Madrid:20140423T093000
DTEND;TZID=Europe/Madrid:20140423T113000
DTSTAMP:20260424T103815
CREATED:20140423T073000Z
LAST-MODIFIED:20210316T142059Z
UID:18038-1398245400-1398252600@acpri.cat
SUMMARY:Congres Internacional de Protocol UNED 'Protocol i Diplomàcia'
DESCRIPTION:strong>\n\nCongrés Internacional \n“El Protocol contemporani:  \ndes del Congrés de Viena fins a l’actualitat (1814-2014)” \nVIII Jornades sobre Protocol “Protocol i Diplomàcia” \n  \nMadrid\, 23\, 24 i 25 d’abril de 2014 \nSaló d’Actes \nFacultats de Dret i de Ciències Polítiques i Sociologia\, UNED \n  \n  \nCIRCULAR núm. 1 \n  \n\nCIRCULAR núm. 2 \nCIRCULAR núm. 3 \nPROGRAMA PROVISIONAL \nINFORMACIÓ GENERAL DELS CONGRÈS
URL:https://acpri.cat/event/congres-internacional-de-protocol-uned-protocol-i-diplomacia-3/
CATEGORIES:Activitats ACPRI
ATTACH;FMTTYPE=image/jpeg:https://acpri.cat/wp-content/uploads/2018/09/activitats193.jpg
ORGANIZER;CN="Activitats ACPRI":MAILTO:acpri@acpri.cat
END:VEVENT
END:VCALENDAR