BEGIN:VCALENDAR
VERSION:2.0
PRODID:-//ACPRI - ECPv6.15.20//NONSGML v1.0//EN
CALSCALE:GREGORIAN
METHOD:PUBLISH
X-ORIGINAL-URL:https://acpri.cat
X-WR-CALDESC:Esdeveniments per ACPRI
REFRESH-INTERVAL;VALUE=DURATION:PT1H
X-Robots-Tag:noindex
X-PUBLISHED-TTL:PT1H
BEGIN:VTIMEZONE
TZID:Europe/Madrid
BEGIN:DAYLIGHT
TZOFFSETFROM:+0100
TZOFFSETTO:+0200
TZNAME:CEST
DTSTART:20120325T010000
END:DAYLIGHT
BEGIN:STANDARD
TZOFFSETFROM:+0200
TZOFFSETTO:+0100
TZNAME:CET
DTSTART:20121028T010000
END:STANDARD
BEGIN:DAYLIGHT
TZOFFSETFROM:+0100
TZOFFSETTO:+0200
TZNAME:CEST
DTSTART:20130331T010000
END:DAYLIGHT
BEGIN:STANDARD
TZOFFSETFROM:+0200
TZOFFSETTO:+0100
TZNAME:CET
DTSTART:20131027T010000
END:STANDARD
BEGIN:DAYLIGHT
TZOFFSETFROM:+0100
TZOFFSETTO:+0200
TZNAME:CEST
DTSTART:20140330T010000
END:DAYLIGHT
BEGIN:STANDARD
TZOFFSETFROM:+0200
TZOFFSETTO:+0100
TZNAME:CET
DTSTART:20141026T010000
END:STANDARD
END:VTIMEZONE
BEGIN:VEVENT
DTSTART;TZID=Europe/Madrid:20131127T090000
DTEND;TZID=Europe/Madrid:20131127T110000
DTSTAMP:20260424T200510
CREATED:20131127T080000Z
LAST-MODIFIED:20210316T142117Z
UID:18060-1385542800-1385550000@acpri.cat
SUMMARY:Jornada de Protocol per a Entitats Locals
DESCRIPTION:p>PRESENTACIÓ  \nLa primera Jornada de Protocol per a Entitats Locals s’emmarca en les activitats de la Comissió homònima de l’Associació Catalana de Protocol i Relacions Institucionals i ha estat concebuda\, organitzada i promoguda per donar a conèixer aquesta vessant protocol·lària\, per dialogar i debatre sobre els interrogants de la professió en aquest àmbit\, i per esperonar els seus oficiants en el gran repte diari de treballar amb més rigor\, amb més efectivitat.  \nAquesta Jornada no tracta únicament del protocol o del cerimonial inherents als ajuntaments o consells comarcals sinó que incideix també en la comunicació\, en les relacions institucionals i en les externes d’aquests ens presents a tot el territori com a garants de la identitat i de la igualtat jurídica de cada bocí de Catalunya.  \nAquesta Jornada és també el resultat de la pluralitat en el patrocini i en els destinataris perquè compta amb el concurs de la Generalitat de Catalunya\, de las Diputacions de Barcelona i Tarragona\, de l’Ajuntament de Barcelona\, de l’Associació Catalana de Municipis i de la Federació Catalana de Municipis\, així com té l’objectiu d’arribar als professionals i als tècnics en la matèria i en els estudiants d’aquesta disciplina que seran els professionals del demà.  \nPotser ens trobem en una de les parcel·les del món institucional més rica en cerimonial\, on la tradició té més pes específic important\, on la seva praxis és més propera al ciutadà i on\, de segur\, les dones i els homes de casa nostra en són protagonistes moltes vegades. Si hi ha un camp on el protocol incideix de forma més directa en totes les persones\, aquest és\, sense cap mena de dubte\, el món local per proximitat\, per participació i per implicació de les qüestions que tracta.  \nLa primera Jornada de Protocol per a Entitats Locals\, encara que pensada i adreçada a la participació dels residents a la demarcació de Barcelona i de Tarragona\, està adreçada als socis d’ACPRI i als professionals d’aquests temes i està oberta a tothom qui hi tingui interès.  \nEl protocol al món local és més viu potser perquè ens ve dels temps més reculats però sobretot perquè ha estat pensat per persones en la litúrgia dels seus viures i l’escenari de l’Escola Industrial de la Ciutat Comtal és un exponent d’excepció d’aquesta proximitat i d’aquesta implicació en la formació\, en les preocupacions i en el destí del nostre país i del nostre poble.  \nINSCRIPCIONS \n 
URL:https://acpri.cat/event/jornada-de-protocol-per-a-entitats-locals/
CATEGORIES:Activitats ACPRI
ATTACH;FMTTYPE=image/jpeg:https://acpri.cat/wp-content/uploads/2018/09/activitats185.jpg
ORGANIZER;CN="Activitats ACPRI":MAILTO:acpri@acpri.cat
END:VEVENT
END:VCALENDAR