BEGIN:VCALENDAR
VERSION:2.0
PRODID:-//ACPRI - ECPv6.15.20//NONSGML v1.0//EN
CALSCALE:GREGORIAN
METHOD:PUBLISH
X-WR-CALNAME:ACPRI
X-ORIGINAL-URL:https://acpri.cat
X-WR-CALDESC:Esdeveniments per ACPRI
REFRESH-INTERVAL;VALUE=DURATION:PT1H
X-Robots-Tag:noindex
X-PUBLISHED-TTL:PT1H
BEGIN:VTIMEZONE
TZID:Europe/Madrid
BEGIN:DAYLIGHT
TZOFFSETFROM:+0100
TZOFFSETTO:+0200
TZNAME:CEST
DTSTART:20120325T010000
END:DAYLIGHT
BEGIN:STANDARD
TZOFFSETFROM:+0200
TZOFFSETTO:+0100
TZNAME:CET
DTSTART:20121028T010000
END:STANDARD
BEGIN:DAYLIGHT
TZOFFSETFROM:+0100
TZOFFSETTO:+0200
TZNAME:CEST
DTSTART:20130331T010000
END:DAYLIGHT
BEGIN:STANDARD
TZOFFSETFROM:+0200
TZOFFSETTO:+0100
TZNAME:CET
DTSTART:20131027T010000
END:STANDARD
BEGIN:DAYLIGHT
TZOFFSETFROM:+0100
TZOFFSETTO:+0200
TZNAME:CEST
DTSTART:20140330T010000
END:DAYLIGHT
BEGIN:STANDARD
TZOFFSETFROM:+0200
TZOFFSETTO:+0100
TZNAME:CET
DTSTART:20141026T010000
END:STANDARD
END:VTIMEZONE
BEGIN:VEVENT
DTSTART;TZID=Europe/Madrid:20131008T183000
DTEND;TZID=Europe/Madrid:20131008T203000
DTSTAMP:20260424T230319
CREATED:20131008T163000Z
LAST-MODIFIED:20210316T142121Z
UID:18066-1381257000-1381264200@acpri.cat
SUMMARY:3a. Jornada de Debats de Protocol d'Empreses
DESCRIPTION:strong> \n3a. Jornada de Debats de Protocol d’Empreses: Els mitjans de comunicació i la difusió dels esdeveniments  \n \nEl proper dimecres 8 d’octubre tindrà lloc\, a l’Auditori de Gas Natural Fenosa (Barcelona)\, la 3a Jornada de Debats de Protocol d’Empreses\, organitzada per l’Associació Catalana de Protocol i Relacions Institucionals (ACPRI)\, una entitat que agrupa als professionals vinculats a aquest sector\, en la qual\, reconeguts professionals de l’àmbit de la comunicació\, com el Sr. Federico Segarra\, director de Comunicació de Damm\, o el Sr. Albert Molto\, director de Comunicació de l’Hospital Sant Joan de Déu\, explicaran les seves inquietuds o satisfaccions a partir de la difusió d’un esdeveniment de la seva entitat i del sector al qual representen.  \nEls mitjans de comunicació\, un dels grans pilars del món dels negocis\, poden arribar a ressaltar o "enterrar" qualsevol esdeveniment\, i\, en conseqüència\, l’entitat que representen.  \nParal·lelament\, el protocol empresarial ha evolucionat molt en els últims anys i cada cop té més equips de persones multidisciplinàries\, que no tan sols gestionen l’organització sinó també la seva difusió on/off line directament o molt compenetrades amb els seus companys del departament de premsa. \nEn aquesta jornada\, reconeguts professionals del món de la comunicació i dels serveis de màrqueting debatran sobre el valor de donar informació dels grans esdeveniments que tenen lloc en les seves empreses i demostraran que darrere de cada esdeveniment hi ha un objectiu important per a l’entitat i la societat en particular\, ja sigui de presentació\, de demostració de les millores que es realitzen o bé simplement pel fet de donar informació periòdica del seu funcionament.  \nEn definitiva\, sabrem el seu punt de vista sobre els mitjans\, quin valor els donen o quan els han utilitzat i coneixerem les seves pròpies opinions i conclusions.  \nPerò\, sense tancar-nos únicament en aquest tipus d’esdeveniment\, també volem dialogar i debatre aquelles petites presentacions de "porta tancada" o participacions en actes singulars organitzats per altres companyies.  \nNo hem d’oblidar-nos que el protocol en les empreses i les relacions entre institucions en un moment com l’actual\, amb una comunicació ben organitzada i ben difosa\, pot donar importants beneficis\, tal com alguns dels ponents assistents ens demostraran.  \nActualment\, no es pot parlar d’una empresa innovadora si no ha incorporat en les seves exigències internes el protocol d’actuació i una comunicació externa en tots els seus canals\, digitals o no\, ben definida.  \nEls debats de protocol d’empresa volem que siguin una contribució al fet de trobar les claus que permetran la consolidació d’una professió en creixement i una ocasió per debatre el treball dels professionals i tots els camps on actuen.  \nEl protocol no és una invenció moderna\, però sí que ha tingut una important evolució i actualització en els últims anys\, en què es reflecteix la generalització de la vida pública i la gran participació de l’empresa privada en les activitats socials. Per tant\, el professional del protocol no sols ha de ser un gran organitzador\, sinó que\, al mateix temps\, ha de saber desenvolupar-se en altres àrees com la tècnica d’organització\, les noves tecnologies i el disseny\, els idiomes\, els mitjans de comunicació\, l’oratòria\, els gabinets\, les empreses i les tècniques de reunió i negociació\, perquè són una part importantíssima de la comunicació de les entitats\, i\, com tothom sap\, una comunicació ben desenvolupada contribueix als beneficis de l’empresa.  \nUs animem a saber més detalls del tema a la 3a Jornada de Debats de Protocol d’Empreses\, que tindrà lloc el dia 8 d’octubre de 2013 a les 18.30 h\, a l’auditori de Gas Natural Fenosa (Plaça del Gas\, 1).  \nINSCRIPCIONS \n  \n  \n  \n  \n  \n  \n  \n  \n  \n  \n  \n  \n  \n  \n  \n 
URL:https://acpri.cat/event/3a-jornada-de-debats-de-protocol-dempreses/
CATEGORIES:Activitats ACPRI
ORGANIZER;CN="Activitats ACPRI":MAILTO:acpri@acpri.cat
END:VEVENT
END:VCALENDAR