BEGIN:VCALENDAR
VERSION:2.0
PRODID:-//ACPRI - ECPv6.15.20//NONSGML v1.0//EN
CALSCALE:GREGORIAN
METHOD:PUBLISH
X-ORIGINAL-URL:https://acpri.cat
X-WR-CALDESC:Esdeveniments per ACPRI
REFRESH-INTERVAL;VALUE=DURATION:PT1H
X-Robots-Tag:noindex
X-PUBLISHED-TTL:PT1H
BEGIN:VTIMEZONE
TZID:Europe/Madrid
BEGIN:DAYLIGHT
TZOFFSETFROM:+0100
TZOFFSETTO:+0200
TZNAME:CEST
DTSTART:20120325T010000
END:DAYLIGHT
BEGIN:STANDARD
TZOFFSETFROM:+0200
TZOFFSETTO:+0100
TZNAME:CET
DTSTART:20121028T010000
END:STANDARD
BEGIN:DAYLIGHT
TZOFFSETFROM:+0100
TZOFFSETTO:+0200
TZNAME:CEST
DTSTART:20130331T010000
END:DAYLIGHT
BEGIN:STANDARD
TZOFFSETFROM:+0200
TZOFFSETTO:+0100
TZNAME:CET
DTSTART:20131027T010000
END:STANDARD
BEGIN:DAYLIGHT
TZOFFSETFROM:+0100
TZOFFSETTO:+0200
TZNAME:CEST
DTSTART:20140330T010000
END:DAYLIGHT
BEGIN:STANDARD
TZOFFSETFROM:+0200
TZOFFSETTO:+0100
TZNAME:CET
DTSTART:20141026T010000
END:STANDARD
END:VTIMEZONE
BEGIN:VEVENT
DTSTART;TZID=Europe/Madrid:20130318T183000
DTEND;TZID=Europe/Madrid:20130318T203000
DTSTAMP:20260425T133221
CREATED:20130318T173000Z
LAST-MODIFIED:20210316T142145Z
UID:18100-1363631400-1363638600@acpri.cat
SUMMARY:Assemblea Ordinària APRI 2013
DESCRIPTION:En nom de la Junta Directiva\, em plau convocar-te a l’Assemblea General Ordinària de l’Associació Catalana de Protocol i Relacions Institucionals\, que tindrà lloc el proper dilluns\, 18 de març de 2013\, a 2/4 de 7 de la tarda en primera convocatòria\, i a les 7 en segona\, a la seu de PIMEC (carrer de Viladomat\, 174 de Barcelona)\, d’acord amb l’ordre del dia següent: \n– Lectura i aprovació de l’acta anterior\n– Informe de la presidència sobre les activitats des de la darrera assemblea fins a la data \n– Estat de comptes: resum de l’exercici 2012 i pressupost de l’exercici 2013\n– Informe de la presidència sobre les propostes d’activitats per al 2013\n– Precs i preguntes
URL:https://acpri.cat/event/assemblea-ordinaria-apri-2013/
CATEGORIES:Activitats ACPRI
ORGANIZER;CN="Activitats ACPRI":MAILTO:acpri@acpri.cat
END:VEVENT
END:VCALENDAR