BEGIN:VCALENDAR
VERSION:2.0
PRODID:-//ACPRI - ECPv6.15.20//NONSGML v1.0//EN
CALSCALE:GREGORIAN
METHOD:PUBLISH
X-WR-CALNAME:ACPRI
X-ORIGINAL-URL:https://acpri.cat
X-WR-CALDESC:Esdeveniments per ACPRI
REFRESH-INTERVAL;VALUE=DURATION:PT1H
X-Robots-Tag:noindex
X-PUBLISHED-TTL:PT1H
BEGIN:VTIMEZONE
TZID:Europe/Madrid
BEGIN:DAYLIGHT
TZOFFSETFROM:+0100
TZOFFSETTO:+0200
TZNAME:CEST
DTSTART:20120325T010000
END:DAYLIGHT
BEGIN:STANDARD
TZOFFSETFROM:+0200
TZOFFSETTO:+0100
TZNAME:CET
DTSTART:20121028T010000
END:STANDARD
BEGIN:DAYLIGHT
TZOFFSETFROM:+0100
TZOFFSETTO:+0200
TZNAME:CEST
DTSTART:20130331T010000
END:DAYLIGHT
BEGIN:STANDARD
TZOFFSETFROM:+0200
TZOFFSETTO:+0100
TZNAME:CET
DTSTART:20131027T010000
END:STANDARD
BEGIN:DAYLIGHT
TZOFFSETFROM:+0100
TZOFFSETTO:+0200
TZNAME:CEST
DTSTART:20140330T010000
END:DAYLIGHT
BEGIN:STANDARD
TZOFFSETFROM:+0200
TZOFFSETTO:+0100
TZNAME:CET
DTSTART:20141026T010000
END:STANDARD
END:VTIMEZONE
BEGIN:VEVENT
DTSTART;TZID=Europe/Madrid:20130306T120000
DTEND;TZID=Europe/Madrid:20130306T140000
DTSTAMP:20260425T132906
CREATED:20130306T110000Z
LAST-MODIFIED:20210316T142147Z
UID:18104-1362571200-1362578400@acpri.cat
SUMMARY:ACPRI a ETV: Protocol Religiós
DESCRIPTION:p>Emissió de l’espai que ACPRI realitza al programa RODA MÓN a ETV (Esplugues Televisió) cada quinze dies. \nSecció coordinada per la responsable d’empresa de l’associació\, la Jacqueline Ruiz\, qui el presenta amb el conductor del programa\, Toni Guerrero. \nCada programa és dedicat a un tema determinat\, d’interés per als professionals. \nEl programa d’avui està dedicat al Protocol Religiós amb l’Eduard Subirà\, soci d’ACPRI.
URL:https://acpri.cat/event/acpri-a-etv-protocol-religios/
CATEGORIES:Activitats ACPRI
ATTACH;FMTTYPE=image/jpeg:https://acpri.cat/wp-content/uploads/2018/09/activitats163.jpg
ORGANIZER;CN="Activitats ACPRI":MAILTO:acpri@acpri.cat
END:VEVENT
END:VCALENDAR