BEGIN:VCALENDAR
VERSION:2.0
PRODID:-//ACPRI - ECPv6.15.20//NONSGML v1.0//EN
CALSCALE:GREGORIAN
METHOD:PUBLISH
X-WR-CALNAME:ACPRI
X-ORIGINAL-URL:https://acpri.cat
X-WR-CALDESC:Esdeveniments per ACPRI
REFRESH-INTERVAL;VALUE=DURATION:PT1H
X-Robots-Tag:noindex
X-PUBLISHED-TTL:PT1H
BEGIN:VTIMEZONE
TZID:Europe/Madrid
BEGIN:DAYLIGHT
TZOFFSETFROM:+0100
TZOFFSETTO:+0200
TZNAME:CEST
DTSTART:20120325T010000
END:DAYLIGHT
BEGIN:STANDARD
TZOFFSETFROM:+0200
TZOFFSETTO:+0100
TZNAME:CET
DTSTART:20121028T010000
END:STANDARD
BEGIN:DAYLIGHT
TZOFFSETFROM:+0100
TZOFFSETTO:+0200
TZNAME:CEST
DTSTART:20130331T010000
END:DAYLIGHT
BEGIN:STANDARD
TZOFFSETFROM:+0200
TZOFFSETTO:+0100
TZNAME:CET
DTSTART:20131027T010000
END:STANDARD
BEGIN:DAYLIGHT
TZOFFSETFROM:+0100
TZOFFSETTO:+0200
TZNAME:CEST
DTSTART:20140330T010000
END:DAYLIGHT
BEGIN:STANDARD
TZOFFSETFROM:+0200
TZOFFSETTO:+0100
TZNAME:CET
DTSTART:20141026T010000
END:STANDARD
END:VTIMEZONE
BEGIN:VEVENT
DTSTART;TZID=Europe/Madrid:20130305T140000
DTEND;TZID=Europe/Madrid:20130305T160000
DTSTAMP:20260425T133002
CREATED:20130305T130000Z
LAST-MODIFIED:20210316T142148Z
UID:18106-1362492000-1362499200@acpri.cat
SUMMARY:49 dinar ACPRI
DESCRIPTION:Cal confirmar l’assistència al dinar abans del proper 1 de març de 2013 fent servir el formulari annex que trobareu en aquesta mateixa plana web.\nPer visionar l’acceptació o anul·lació d’assistència cal que useu les dades d’accés d’associats. \nHorari: de 14 a 16 h.\nPreu del menú: 12 € + IVA\nWeb: http://www.grupgambito.com/restauracion/gambito-barcelona \nLloc: Restaurant Gambito (Carrer de Rosselló\, 242 de Barcelona) Planell
URL:https://acpri.cat/event/49-dinar-acpri/
CATEGORIES:Activitats ACPRI
ORGANIZER;CN="Activitats ACPRI":MAILTO:acpri@acpri.cat
END:VEVENT
END:VCALENDAR