BEGIN:VCALENDAR
VERSION:2.0
PRODID:-//ACPRI - ECPv6.15.20//NONSGML v1.0//EN
CALSCALE:GREGORIAN
METHOD:PUBLISH
X-ORIGINAL-URL:https://acpri.cat
X-WR-CALDESC:Esdeveniments per ACPRI
REFRESH-INTERVAL;VALUE=DURATION:PT1H
X-Robots-Tag:noindex
X-PUBLISHED-TTL:PT1H
BEGIN:VTIMEZONE
TZID:Europe/Madrid
BEGIN:DAYLIGHT
TZOFFSETFROM:+0100
TZOFFSETTO:+0200
TZNAME:CEST
DTSTART:20110327T010000
END:DAYLIGHT
BEGIN:STANDARD
TZOFFSETFROM:+0200
TZOFFSETTO:+0100
TZNAME:CET
DTSTART:20111030T010000
END:STANDARD
BEGIN:DAYLIGHT
TZOFFSETFROM:+0100
TZOFFSETTO:+0200
TZNAME:CEST
DTSTART:20120325T010000
END:DAYLIGHT
BEGIN:STANDARD
TZOFFSETFROM:+0200
TZOFFSETTO:+0100
TZNAME:CET
DTSTART:20121028T010000
END:STANDARD
BEGIN:DAYLIGHT
TZOFFSETFROM:+0100
TZOFFSETTO:+0200
TZNAME:CEST
DTSTART:20130331T010000
END:DAYLIGHT
BEGIN:STANDARD
TZOFFSETFROM:+0200
TZOFFSETTO:+0100
TZNAME:CET
DTSTART:20131027T010000
END:STANDARD
END:VTIMEZONE
BEGIN:VEVENT
DTSTART;TZID=Europe/Madrid:20121204T210000
DTEND;TZID=Europe/Madrid:20121204T230000
DTSTAMP:20260425T175749
CREATED:20121204T200000Z
LAST-MODIFIED:20210316T142156Z
UID:18116-1354654800-1354662000@acpri.cat
SUMMARY:Sopar de Nadal per a Socis i Sòcies d'ACPRI
DESCRIPTION:p>Amb motiu de l’acabament de l’any\, s’ha decidit canviar el tradicional dinar mensual d’ACPRI en un sopar i convertir-lo en el SOPAR DE NADAL DELS SOCIS I LES SOCIES D’ACPRI. \nCal confirmar l’assistència abans del proper 30 de novembre fent servir el formulari annex que trobareu en aquesta mateixa plana web.\nPer visionar l’acceptació o anul·lació d’assistència cal que useu les dades d’accés d’associats. \nLloc: Restaurant Gambito (Carrer de Rosselló\, 242 de Barcelona) Planell\nHorari: a les 9 de la nit\nPreu del menú: 20 € + IVA\nWeb: http://www.grupgambito.com/restauracion/gambito-barcelona \n 
URL:https://acpri.cat/event/sopar-de-nadal-per-a-socis-i-socies-dacpri/
CATEGORIES:Activitats ACPRI
ATTACH;FMTTYPE=image/jpeg:https://acpri.cat/wp-content/uploads/2018/09/activitats152.jpg
ORGANIZER;CN="Activitats ACPRI":MAILTO:acpri@acpri.cat
END:VEVENT
END:VCALENDAR