BEGIN:VCALENDAR
VERSION:2.0
PRODID:-//ACPRI - ECPv6.15.20//NONSGML v1.0//EN
CALSCALE:GREGORIAN
METHOD:PUBLISH
X-ORIGINAL-URL:https://acpri.cat
X-WR-CALDESC:Esdeveniments per ACPRI
REFRESH-INTERVAL;VALUE=DURATION:PT1H
X-Robots-Tag:noindex
X-PUBLISHED-TTL:PT1H
BEGIN:VTIMEZONE
TZID:Europe/Madrid
BEGIN:DAYLIGHT
TZOFFSETFROM:+0100
TZOFFSETTO:+0200
TZNAME:CEST
DTSTART:20110327T010000
END:DAYLIGHT
BEGIN:STANDARD
TZOFFSETFROM:+0200
TZOFFSETTO:+0100
TZNAME:CET
DTSTART:20111030T010000
END:STANDARD
BEGIN:DAYLIGHT
TZOFFSETFROM:+0100
TZOFFSETTO:+0200
TZNAME:CEST
DTSTART:20120325T010000
END:DAYLIGHT
BEGIN:STANDARD
TZOFFSETFROM:+0200
TZOFFSETTO:+0100
TZNAME:CET
DTSTART:20121028T010000
END:STANDARD
BEGIN:DAYLIGHT
TZOFFSETFROM:+0100
TZOFFSETTO:+0200
TZNAME:CEST
DTSTART:20130331T010000
END:DAYLIGHT
BEGIN:STANDARD
TZOFFSETFROM:+0200
TZOFFSETTO:+0100
TZNAME:CET
DTSTART:20131027T010000
END:STANDARD
END:VTIMEZONE
BEGIN:VEVENT
DTSTART;TZID=Europe/Madrid:20121019T210000
DTEND;TZID=Europe/Madrid:20121019T230000
DTSTAMP:20260425T202825
CREATED:20121019T190000Z
LAST-MODIFIED:20210316T142201Z
UID:18126-1350680400-1350687600@acpri.cat
SUMMARY:5a. Nit ACPRI al Gran Palas Hotel a La Pineda -Tarragona-
DESCRIPTION:strong>5a. NIT DE L’ACPRI\n \nDIVENDRES\, 19 D’OCTUBRE\nGRAN PALAS HOTEL* * * * * LA PINEDA (VILA-SECA)\n21 h\n \n1.    Aperitiu de benvinguda\n2.    Sopar de gala\n3.    Lliurament dels guardons dels PREMIS ACPRI\n4.    Sorteig de regals\n5.    Fi de festa habitual\n \nPreu soci: 30 euros (IVA inclòs)    \n* L’acompanyant pagarà a preu de soci\n \nPreu no soci: 40 euros (IVA inclòs)\n \nEl preu del sopar està esponsoritzat. \n\n\nDESPLAÇAMENTS:\nPer fer més còmode el desplaçament dels participants de Barcelona que només assisteixin al sopar\, es posarà a disposició dels interessats un autobús gratuït\, que sortirà de Barcelona dels punts que oportunament s’indicaran.\nSi hi ha suficients nombre de persones interessades es pot preveure el desplaçament d’autobús des de Girona i Lleida. \nHOTEL – ALLOTJAMENT – www.grouppalas.com/granpalas/\n \nL’Hotel ens ofereix uns preus molt especials per a les persones que es vulguin quedar a dormir o passar el cap de setmana.\n \nHabitacions:\nGRAN PALAS HOTEL 5*: 50 € (IVA inclòs) per persona amb habitació doble amb allotjament\, esmorzar (Centre Termal Spalas inclòs) – Suplement de 20 € en DUI\nHOTEL PALAS PINEDA 4*: 30 € (IVA inclòs) per persona amb habitació doble\, allotjament\, esmorzar – Suplement de 15 € en DUI\n \nLes dues opcions tenen un 50% de descompte per als nens entre 2-12 anys i un 25% de descompte a la tercera i quarta persona. \nPORTAVENTURA www.portaventura.es/\nTots els participants al sopar tindran la possibilitat de visitar PORTAVENTURA durant el cap de setmana amb un descompte especial de 2×1.\n \n \n\nFORMULARI D’INSCRIPCIÓ \n \nFORMULARI D’ALLOTJAMENT \n  \n \n  \n 
URL:https://acpri.cat/event/5a-nit-acpri-al-gran-palas-hotel-a-la-pineda-tarragona/
CATEGORIES:Activitats ACPRI
ATTACH;FMTTYPE=image/jpeg:https://acpri.cat/wp-content/uploads/2018/09/activitats148.jpg
ORGANIZER;CN="Activitats ACPRI":MAILTO:acpri@acpri.cat
END:VEVENT
END:VCALENDAR