BEGIN:VCALENDAR
VERSION:2.0
PRODID:-//ACPRI - ECPv6.15.20//NONSGML v1.0//EN
CALSCALE:GREGORIAN
METHOD:PUBLISH
X-WR-CALNAME:ACPRI
X-ORIGINAL-URL:https://acpri.cat
X-WR-CALDESC:Esdeveniments per ACPRI
REFRESH-INTERVAL;VALUE=DURATION:PT1H
X-Robots-Tag:noindex
X-PUBLISHED-TTL:PT1H
BEGIN:VTIMEZONE
TZID:Europe/Madrid
BEGIN:DAYLIGHT
TZOFFSETFROM:+0100
TZOFFSETTO:+0200
TZNAME:CEST
DTSTART:20150329T010000
END:DAYLIGHT
BEGIN:STANDARD
TZOFFSETFROM:+0200
TZOFFSETTO:+0100
TZNAME:CET
DTSTART:20151025T010000
END:STANDARD
BEGIN:DAYLIGHT
TZOFFSETFROM:+0100
TZOFFSETTO:+0200
TZNAME:CEST
DTSTART:20160327T010000
END:DAYLIGHT
BEGIN:STANDARD
TZOFFSETFROM:+0200
TZOFFSETTO:+0100
TZNAME:CET
DTSTART:20161030T010000
END:STANDARD
BEGIN:DAYLIGHT
TZOFFSETFROM:+0100
TZOFFSETTO:+0200
TZNAME:CEST
DTSTART:20170326T010000
END:DAYLIGHT
BEGIN:STANDARD
TZOFFSETFROM:+0200
TZOFFSETTO:+0100
TZNAME:CET
DTSTART:20171029T010000
END:STANDARD
END:VTIMEZONE
BEGIN:VEVENT
DTSTART;TZID=Europe/Madrid:20160602T190000
DTEND;TZID=Europe/Madrid:20160602T210000
DTSTAMP:20260421T222615
CREATED:20160602T170000Z
LAST-MODIFIED:20210316T142006Z
UID:17958-1464894000-1464901200@acpri.cat
SUMMARY:Presentació llibres Carlos Fuente i Gloria Campos
DESCRIPTION:p>El dijous 2 de juny a les 7 de la tarda ha estat el dia escollit per l’Associació Catalana de Protocol i Relacions Institucionals per presentar els primers llibres de l’editorial Sindéresis que dins la col·lecció de Ciències Socials pertanyen a la sèrie "Comunciació\, Esdeveniments i Relacions Institucionals" i que es farà a la seu de PIMEC (carrer de Viladomat\, 174). \nEls llibres han estat escrits per dos professionals del món del Protocol\, la Comunicació i els Esdeveniments\, i uns referents al sector:\n"Eventos corporativos: puesta en escena\, creativitat y espectaculo" és de Gloria Campos Quevedo\, mentre que "Protoclo y Ceremonial en los Premiso Principe de Asturias (1981-2010)" es un repàs exhaustiu d’aquest apartat en aels Premis que es lliuren a Oviedo cap el més d’octubre\, al llarg de gairebé 30 anys.  \n 
URL:https://acpri.cat/event/presentacio-llibres-carlos-fuente-i-gloria-campos/
CATEGORIES:Activitats ACPRI
ATTACH;FMTTYPE=image/jpeg:https://acpri.cat/wp-content/uploads/2018/09/activitats241.jpg
ORGANIZER;CN="Activitats ACPRI":MAILTO:acpri@acpri.cat
END:VEVENT
BEGIN:VEVENT
DTSTART;TZID=Europe/Madrid:20160611T103000
DTEND;TZID=Europe/Madrid:20160611T123000
DTSTAMP:20260421T222615
CREATED:20160611T083000Z
LAST-MODIFIED:20210316T142006Z
UID:17956-1465641000-1465648200@acpri.cat
SUMMARY:Esmorzars de Forquilla a Lleida
DESCRIPTION:p>El dissabte 11 de juny entre 2/4 d’11 i 2/4 d’1 del migdia tindrà lloc el primer ESMORZAR DE FORQUILLA a la demarcació LLEIDA\, amb una xerrada-col·loqui amb la Carme Polo. Nascuda a la província de Lleida. Professora Oratòria i Comunicació personal a Esade i a la UdL. Especialista en gestió cultural. Col·laboradora d’"Els Matins" de TV3. \nCultura i Comunicació són els dos eixos al voltant dels quals es mou la seva vida professional. Els projectes en què treballa són reptes que busquen un objectiu comú: donar visibilitat i prestigi a alguna cosa o algú. \n"Sense pretendre ser uns grans oradors\, tots hauríem de conèixer les nostres fortaleses\, per potenciar-les\, alhora que hauríem de ser conscients de les nostres debilitats\, per minimitzar-les i aprofitar al màxim les nostres capacitats en la nostra comunicació". Segons la Carme els valors que vénen del passat serveixen per consolidar el futur\, en el Patrimoni Mundial. Les capacitats innates i adquirides serveixen per obtenir l’excel·lència en la comunicació.\n \nLa seva orientació professional està enfocada a destacar el millor de cada un. \nEl 2013 va iniciar una etapa com a col·laboradora en la tertúlia d’Els Matins\, de TV3. Aquesta temporada té un nou repte: explicar en una secció quinzenal la importància de la comunicació no verbal i la necessitat de conèixer els nostres recursos a l’hora de comunicar amb el nostre entorn. I d’això mateix tindrem el plaer de parlar amb la Carme\, de tu a tu\, dissabte dia 11 de juny\, a les 10.30 hores. \nLa representant de la demarcació\, la Laura Sanchez-Llovet\, organitza aquest acte i aprofitarà per fer la presentació oficial de l’Associació a la demarcació de les terres de Ponent. \nPer a més informació lleida@acpri.cat \n  \n 
URL:https://acpri.cat/event/esmorzars-de-forquilla-a-lleida/
CATEGORIES:Activitats ACPRI
ATTACH;FMTTYPE=image/jpeg:https://acpri.cat/wp-content/uploads/2018/09/activitats242.jpg
ORGANIZER;CN="Activitats ACPRI":MAILTO:acpri@acpri.cat
END:VEVENT
BEGIN:VEVENT
DTSTART;TZID=Europe/Madrid:20160621T190000
DTEND;TZID=Europe/Madrid:20160621T210000
DTSTAMP:20260421T222615
CREATED:20160621T170000Z
LAST-MODIFIED:20210316T142006Z
UID:17954-1466535600-1466542800@acpri.cat
SUMMARY:Els Debats de l'ACPRI: PROTOCOL\, QUO VADIS
DESCRIPTION:p>El proper dimarts 21 de juny tindrà lloc la primera edició dels Debats de l’ACPRI. I el tema escollit és PROTOCOL\, QUO VADIS.  \nEn aquest debat comptarem amb la presència de professionals d’alt nivell qui ens donaran els seus punts de vista des de la Institució\, l’Empresa i el món Acadèmic amb un col·loqui posterior amb els assistents per poder debatre sobre la nostra professió\, l’estat en què es troba\, el futur\, què podem fer els professionals … \n    Carles Fabró\, director del Gabinet de Relacions Externes i Protocol de la Generalitat de Catalunya (com a Instució); \n    Sergi Loughney\, director de Relacions Institucionals i RSC a Abertis i director de la Fundació Abertis (com a Empresa); \n    Elisenda Estanyol\, directora acadèmica del Màster Universitari de Comunicació Corporativa\, Protocol i Esdeveniments de la Universitat Oberta de Catalunya (UOC) -primer oficial a Catalunya- en modalitat online (com a ensenyament); \n    Esther Otero\, directora acadèmica de l’Escola Internacional de Protocol de Barcelona (EIP)\, que imparteixen graus i màsters de protocol\, en modalitat presencial i semipresencial (com a ensenyament) \nUs esperem a les 7 de la tarda a la seu d’ABERTIS a l’avinguda de Pedralbes\, 17\, de Barcelona. \nPer requisits de l’espai on es farà el debat cal fer confirmació d’assistència al correu webmaster@acpri.cat\nSi ets soci ho pots fer directament a la web (accedint amb les teves dades d’associat)
URL:https://acpri.cat/event/els-debats-de-lacpri-protocol-quo-vadis/
CATEGORIES:Activitats ACPRI
ATTACH;FMTTYPE=image/jpeg:https://acpri.cat/wp-content/uploads/2018/09/activitats243.jpg
ORGANIZER;CN="Activitats ACPRI":MAILTO:acpri@acpri.cat
END:VEVENT
BEGIN:VEVENT
DTSTART;TZID=Europe/Madrid:20160630T190000
DTEND;TZID=Europe/Madrid:20160630T210000
DTSTAMP:20260421T222615
CREATED:20160630T170000Z
LAST-MODIFIED:20210316T142003Z
UID:17952-1467313200-1467320400@acpri.cat
SUMMARY:Reunió Junta de Govern
DESCRIPTION:
URL:https://acpri.cat/event/reunio-junta-de-govern-2/
CATEGORIES:Activitats ACPRI
ORGANIZER;CN="Activitats ACPRI":MAILTO:acpri@acpri.cat
END:VEVENT
END:VCALENDAR