BEGIN:VCALENDAR
VERSION:2.0
PRODID:-//ACPRI - ECPv6.15.20//NONSGML v1.0//EN
CALSCALE:GREGORIAN
METHOD:PUBLISH
X-WR-CALNAME:ACPRI
X-ORIGINAL-URL:https://acpri.cat
X-WR-CALDESC:Esdeveniments per ACPRI
REFRESH-INTERVAL;VALUE=DURATION:PT1H
X-Robots-Tag:noindex
X-PUBLISHED-TTL:PT1H
BEGIN:VTIMEZONE
TZID:Europe/Madrid
BEGIN:DAYLIGHT
TZOFFSETFROM:+0100
TZOFFSETTO:+0200
TZNAME:CEST
DTSTART:20130331T010000
END:DAYLIGHT
BEGIN:STANDARD
TZOFFSETFROM:+0200
TZOFFSETTO:+0100
TZNAME:CET
DTSTART:20131027T010000
END:STANDARD
BEGIN:DAYLIGHT
TZOFFSETFROM:+0100
TZOFFSETTO:+0200
TZNAME:CEST
DTSTART:20140330T010000
END:DAYLIGHT
BEGIN:STANDARD
TZOFFSETFROM:+0200
TZOFFSETTO:+0100
TZNAME:CET
DTSTART:20141026T010000
END:STANDARD
BEGIN:DAYLIGHT
TZOFFSETFROM:+0100
TZOFFSETTO:+0200
TZNAME:CEST
DTSTART:20150329T010000
END:DAYLIGHT
BEGIN:STANDARD
TZOFFSETFROM:+0200
TZOFFSETTO:+0100
TZNAME:CET
DTSTART:20151025T010000
END:STANDARD
END:VTIMEZONE
BEGIN:VEVENT
DTSTART;TZID=Europe/Madrid:20141202T190000
DTEND;TZID=Europe/Madrid:20141202T210000
DTSTAMP:20260423T134413
CREATED:20141202T180000Z
LAST-MODIFIED:20210316T142039Z
UID:18012-1417546800-1417554000@acpri.cat
SUMMARY:Assamblea Extraordinària _ Eleccions ACPRI 2014
DESCRIPTION:Benvolguts socis i benvolgudes sòcies\,\n \nTal com ja es va anunciar a l’Assemblea General Ordinària de l’ACPRI de 31 de març de 2014\, enguany -i d’acord amb l’article 16 dels nostres Estatuts- finalitza el mandat de l’actual Junta de Govern que va prendre possessió el 18 d’octubre de 2010.\n \nPer tant\, i en funció de les atribucions que em confereix l’article 21.4\, convoco Assemblea General Extraordinària de l’Associació Catalana de Protocol i Relacions Institucionals el dia 2 de desembre de 2014\, a les 19 hores\, a la seu de la nostra Associació\, carrer de Viladomat\, núm. 174 de Barcelona\, a fi i efecte d’efectuar l’elecció de la nova Junta Directiva d’acord amb les Normes de Procediment Electoral aprovades a la reunió del 15 de setembre d’enguany.\n \nORDRE DEL DIA:\n1.- Constitució de la Mesa Electoral.\n2.- Votacions i escrutini\n3.- Proclamació de la nova Junta Directiva\n4.- Constitució de la nova Junta Directiva\n \nLa composició de la Junta electoral\, d’acord amb la normativa\, segons el punt 4t de la Normativa\, quedarà constituïda a partir del segon dia hàbil des d’aquesta convocatòria per les persones següents:\n \n–  Gerard Piñol … soci núm. 7\n–  Sònia Claveras … sòcia núm. 103\n–  Susana Cucurella … sòcia núm. 2\n \nSuplents:\n \n–  Anna Turull … sòcia núm. 214\n–  Pablo Cenizo … soci núm. 338\n–  Xavier Torres-Canals … soci núm. 34\n \nEl secretari de la mesa serà el secretari de la Junta\, Sr. Carles Cortina.\n \nAprofito l’avinentesa per animar-vos a participar i us saludo ben cordialment.\n \nJosep Solà i Parés\nPresident\n \nBarcelona\, 19 de setembre de 2014\n \nPS.       \nUs agrairem confirmeu l’assistència a la Sra. Lidia Sebastián (tel. 93 496 45 07) o per correu electrònic a info@acpri.cat
URL:https://acpri.cat/event/assamblea-extraordinaria-_-eleccions-acpri-2014/
CATEGORIES:Activitats ACPRI
ORGANIZER;CN="Activitats ACPRI":MAILTO:acpri@acpri.cat
END:VEVENT
BEGIN:VEVENT
DTSTART;TZID=Europe/Madrid:20141209T140000
DTEND;TZID=Europe/Madrid:20141209T160000
DTSTAMP:20260423T134413
CREATED:20141209T130000Z
LAST-MODIFIED:20210316T142037Z
UID:18010-1418133600-1418140800@acpri.cat
SUMMARY:66 dinar ACPRI
DESCRIPTION:em>Ajornat una setmana en coincidir amb el dia de les eleccions a la presidència de l’ACPRI (2 de desembre -19h-) \nCal confirmar l’assistència al dinar abans del proper 28 de novembre de 2014 fent servir el formulari annex que trobareu en aquesta mateixa plana web.\nPer visionar l’acceptació o anul·lació d’assistència cal que useu les dades d’accés d’associats.\n \nHorari: de 14 a 16 h.\nPreu del menú: 12 € + IVA\nWeb: http://www.grupgambito.com/restauracion/gambito-barcelona\nLloc: Restaurant Gambito (Carrer de Rosselló\, 242 de Barcelona) Planell
URL:https://acpri.cat/event/66-dinar-acpri/
CATEGORIES:Activitats ACPRI
ORGANIZER;CN="Activitats ACPRI":MAILTO:acpri@acpri.cat
END:VEVENT
END:VCALENDAR