BEGIN:VCALENDAR
VERSION:2.0
PRODID:-//ACPRI - ECPv6.15.20//NONSGML v1.0//EN
CALSCALE:GREGORIAN
METHOD:PUBLISH
X-ORIGINAL-URL:https://acpri.cat
X-WR-CALDESC:Esdeveniments per ACPRI
REFRESH-INTERVAL;VALUE=DURATION:PT1H
X-Robots-Tag:noindex
X-PUBLISHED-TTL:PT1H
BEGIN:VTIMEZONE
TZID:Europe/Madrid
BEGIN:DAYLIGHT
TZOFFSETFROM:+0100
TZOFFSETTO:+0200
TZNAME:CEST
DTSTART:20130331T010000
END:DAYLIGHT
BEGIN:STANDARD
TZOFFSETFROM:+0200
TZOFFSETTO:+0100
TZNAME:CET
DTSTART:20131027T010000
END:STANDARD
BEGIN:DAYLIGHT
TZOFFSETFROM:+0100
TZOFFSETTO:+0200
TZNAME:CEST
DTSTART:20140330T010000
END:DAYLIGHT
BEGIN:STANDARD
TZOFFSETFROM:+0200
TZOFFSETTO:+0100
TZNAME:CET
DTSTART:20141026T010000
END:STANDARD
BEGIN:DAYLIGHT
TZOFFSETFROM:+0100
TZOFFSETTO:+0200
TZNAME:CEST
DTSTART:20150329T010000
END:DAYLIGHT
BEGIN:STANDARD
TZOFFSETFROM:+0200
TZOFFSETTO:+0100
TZNAME:CET
DTSTART:20151025T010000
END:STANDARD
END:VTIMEZONE
BEGIN:VEVENT
DTSTART;TZID=Europe/Madrid:20140701T140000
DTEND;TZID=Europe/Madrid:20140701T160000
DTSTAMP:20260423T231810
CREATED:20140701T120000Z
LAST-MODIFIED:20210316T142052Z
UID:18028-1404223200-1404230400@acpri.cat
SUMMARY:63 dinar ACPRI
DESCRIPTION:p>PER PROBLEMES TÈCNICS LA INSCRIPCIÓ CAL FER-LA PER CORREU ELECTRÒNIC\nwebmaster@acpri.cat\nINDIQUEU NOM I COGNOMS I NÚMERO D’ASSOCIAT \nDISCULPEU LES MOLÈSTIES \nHorari: de 14 a 16 h.\nPreu del menú: 12 € + IVA\nWeb: http://www.grupgambito.com/restauracion/gambito-barcelona\nLloc: Restaurant Gambito (Carrer de Rosselló\, 242 de Barcelona) Planell
URL:https://acpri.cat/event/63-dinar-acpri/
CATEGORIES:Activitats ACPRI
ORGANIZER;CN="Activitats ACPRI":MAILTO:acpri@acpri.cat
END:VEVENT
BEGIN:VEVENT
DTSTART;TZID=Europe/Madrid:20140702T000000
DTEND;TZID=Europe/Madrid:20140702T020000
DTSTAMP:20260423T231810
CREATED:20140701T220000Z
LAST-MODIFIED:20210316T142050Z
UID:18026-1404259200-1404266400@acpri.cat
SUMMARY:AJORNADA A SETEMBRE!  Visita institucional ACPRI al Parlament de Catalunya
DESCRIPTION:PER PROBLEMES HORARIS AMB EL PARLAMENT HEM CONVINGUT AJORNAR AQUESTA VISITA AL MES DE SETEMBRE.\nTAN BON PUNT TINGUEM LA NOVA DATA US LA FAREM SABER. \nDISCULPEU LES MOLÈSTIES \n\n\n\n\nNo us perdeu aquesta nova activitat d’interès per a tots nosaltres! \nEl Parlament de Catalunya ens obrirà les portes de la mà del seu departament de protocol\, que ens explicarà quina és la seva tasca principal. \nEns veurem allà! Fins aleshores\n\nComissió de Relacions Institucionals de l’ACPRI
URL:https://acpri.cat/event/ajornada-a-setembre-visita-institucional-acpri-al-parlament-de-catalunya/
CATEGORIES:Activitats ACPRI
ATTACH;FMTTYPE=image/jpeg:https://acpri.cat/wp-content/uploads/2018/09/activitats203.jpg
ORGANIZER;CN="Activitats ACPRI":MAILTO:acpri@acpri.cat
END:VEVENT
BEGIN:VEVENT
DTSTART;TZID=Europe/Madrid:20140715T183000
DTEND;TZID=Europe/Madrid:20140715T203000
DTSTAMP:20260423T231810
CREATED:20140715T163000Z
LAST-MODIFIED:20210316T142050Z
UID:18024-1405449000-1405456200@acpri.cat
SUMMARY:4t. Debats Protocol Empreses: Protocol Sanitari
DESCRIPTION:p>Com intervé el Protocol\, les Relacions Institucionals i la Comunicació en el món sanitari \nA l’auditori de Gas Natural Fenosa (Plaça del Gas\, 1 – Barcelona)
URL:https://acpri.cat/event/4t-debats-protocol-empreses-protocol-sanitari/
CATEGORIES:Activitats ACPRI
ATTACH;FMTTYPE=image/jpeg:https://acpri.cat/wp-content/uploads/2018/09/activitats201.jpg
ORGANIZER;CN="Activitats ACPRI":MAILTO:acpri@acpri.cat
END:VEVENT
END:VCALENDAR