BEGIN:VCALENDAR
VERSION:2.0
PRODID:-//ACPRI - ECPv6.15.20//NONSGML v1.0//EN
CALSCALE:GREGORIAN
METHOD:PUBLISH
X-ORIGINAL-URL:https://acpri.cat
X-WR-CALDESC:Esdeveniments per ACPRI
REFRESH-INTERVAL;VALUE=DURATION:PT1H
X-Robots-Tag:noindex
X-PUBLISHED-TTL:PT1H
BEGIN:VTIMEZONE
TZID:Europe/Madrid
BEGIN:DAYLIGHT
TZOFFSETFROM:+0100
TZOFFSETTO:+0200
TZNAME:CEST
DTSTART:20120325T010000
END:DAYLIGHT
BEGIN:STANDARD
TZOFFSETFROM:+0200
TZOFFSETTO:+0100
TZNAME:CET
DTSTART:20121028T010000
END:STANDARD
BEGIN:DAYLIGHT
TZOFFSETFROM:+0100
TZOFFSETTO:+0200
TZNAME:CEST
DTSTART:20130331T010000
END:DAYLIGHT
BEGIN:STANDARD
TZOFFSETFROM:+0200
TZOFFSETTO:+0100
TZNAME:CET
DTSTART:20131027T010000
END:STANDARD
BEGIN:DAYLIGHT
TZOFFSETFROM:+0100
TZOFFSETTO:+0200
TZNAME:CEST
DTSTART:20140330T010000
END:DAYLIGHT
BEGIN:STANDARD
TZOFFSETFROM:+0200
TZOFFSETTO:+0100
TZNAME:CET
DTSTART:20141026T010000
END:STANDARD
END:VTIMEZONE
BEGIN:VEVENT
DTSTART;TZID=Europe/Madrid:20130703T190000
DTEND;TZID=Europe/Madrid:20130703T210000
DTSTAMP:20260425T024004
CREATED:20130703T170000Z
LAST-MODIFIED:20210316T142132Z
UID:18078-1372878000-1372885200@acpri.cat
SUMMARY:Visita ACPRI a l'Ajuntament de Barcelona
DESCRIPTION:p>Recordeu que per poder accedir al "requadre d’assistència" cal que valideu l’accés introduint les vostres dades d’associats. \nPer dubtes webmaster@acpri.cat \nUs hi esperem!
URL:https://acpri.cat/event/visita-acpri-a-lajuntament-de-barcelona/
CATEGORIES:Activitats ACPRI
ATTACH;FMTTYPE=image/jpeg:https://acpri.cat/wp-content/uploads/2018/09/activitats174.jpg
ORGANIZER;CN="Activitats ACPRI":MAILTO:acpri@acpri.cat
END:VEVENT
BEGIN:VEVENT
DTSTART;TZID=Europe/Madrid:20130716T140000
DTEND;TZID=Europe/Madrid:20130716T160000
DTSTAMP:20260425T024004
CREATED:20130716T120000Z
LAST-MODIFIED:20210316T142131Z
UID:18076-1373983200-1373990400@acpri.cat
SUMMARY:53 dinar ACPRI - Estiu 2013
DESCRIPTION:Cal confirmar l’assistència al dinar abans del proper 12 de juliol de 2013 fent servir el formulari annex que trobareu en aquesta mateixa plana web.\nPer visionar l’acceptació o anul·lació d’assistència cal que useu les dades d’accés d’associats. \nHorari: de 14 a 16 h.\nPreu del menú: 12 € + IVA\nWeb: http://www.grupgambito.com/restauracion/gambito-barcelona \nLloc: Restaurant Gambito (Carrer de Rosselló\, 242 de Barcelona) Planell
URL:https://acpri.cat/event/53-dinar-acpri-estiu-2013/
CATEGORIES:Activitats ACPRI
ORGANIZER;CN="Activitats ACPRI":MAILTO:acpri@acpri.cat
END:VEVENT
BEGIN:VEVENT
DTSTART;TZID=Europe/Madrid:20130717T190000
DTEND;TZID=Europe/Madrid:20130717T210000
DTSTAMP:20260425T024004
CREATED:20130717T170000Z
LAST-MODIFIED:20210316T142129Z
UID:18074-1374087600-1374094800@acpri.cat
SUMMARY:Presentació llibre 'La Patum i els administradors 1992-2007'
DESCRIPTION:p>
URL:https://acpri.cat/event/presentacio-llibre-la-patum-i-els-administradors-1992-2007/
CATEGORIES:Activitats ACPRI
ATTACH;FMTTYPE=image/jpeg:https://acpri.cat/wp-content/uploads/2018/09/activitats176.jpg
ORGANIZER;CN="Activitats ACPRI":MAILTO:acpri@acpri.cat
END:VEVENT
END:VCALENDAR