BEGIN:VCALENDAR
VERSION:2.0
PRODID:-//ACPRI - ECPv6.15.20//NONSGML v1.0//EN
CALSCALE:GREGORIAN
METHOD:PUBLISH
X-ORIGINAL-URL:https://acpri.cat
X-WR-CALDESC:Esdeveniments per ACPRI
REFRESH-INTERVAL;VALUE=DURATION:PT1H
X-Robots-Tag:noindex
X-PUBLISHED-TTL:PT1H
BEGIN:VTIMEZONE
TZID:Europe/Madrid
BEGIN:DAYLIGHT
TZOFFSETFROM:+0100
TZOFFSETTO:+0200
TZNAME:CEST
DTSTART:20120325T010000
END:DAYLIGHT
BEGIN:STANDARD
TZOFFSETFROM:+0200
TZOFFSETTO:+0100
TZNAME:CET
DTSTART:20121028T010000
END:STANDARD
BEGIN:DAYLIGHT
TZOFFSETFROM:+0100
TZOFFSETTO:+0200
TZNAME:CEST
DTSTART:20130331T010000
END:DAYLIGHT
BEGIN:STANDARD
TZOFFSETFROM:+0200
TZOFFSETTO:+0100
TZNAME:CET
DTSTART:20131027T010000
END:STANDARD
BEGIN:DAYLIGHT
TZOFFSETFROM:+0100
TZOFFSETTO:+0200
TZNAME:CEST
DTSTART:20140330T010000
END:DAYLIGHT
BEGIN:STANDARD
TZOFFSETFROM:+0200
TZOFFSETTO:+0100
TZNAME:CET
DTSTART:20141026T010000
END:STANDARD
END:VTIMEZONE
BEGIN:VEVENT
DTSTART;TZID=Europe/Madrid:20130507T140000
DTEND;TZID=Europe/Madrid:20130507T160000
DTSTAMP:20260425T054613
CREATED:20130507T120000Z
LAST-MODIFIED:20210316T142136Z
UID:18088-1367935200-1367942400@acpri.cat
SUMMARY:51 dinar ACPRI
DESCRIPTION:Cal confirmar l’assistència al dinar abans del proper 3 de maig de 2013 fent servir el formulari annex que trobareu en aquesta mateixa plana web.\nPer visionar l’acceptació o anul·lació d’assistència cal que useu les dades d’accés d’associats.\n \nHorari: de 14 a 16 h.\nPreu del menú: 12 € + IVA\nWeb: http://www.grupgambito.com/restauracion/gambito-barcelona\nLloc: Restaurant Gambito (Carrer de Rosselló\, 242 de Barcelona) Planell
URL:https://acpri.cat/event/51-dinar-acpri/
CATEGORIES:Activitats ACPRI
ORGANIZER;CN="Activitats ACPRI":MAILTO:acpri@acpri.cat
END:VEVENT
BEGIN:VEVENT
DTSTART;TZID=Europe/Madrid:20130523T090000
DTEND;TZID=Europe/Madrid:20130523T110000
DTSTAMP:20260425T054613
CREATED:20130523T070000Z
LAST-MODIFIED:20210316T142135Z
UID:18086-1369299600-1369306800@acpri.cat
SUMMARY:I Congres Universitari de Protocol\, Comunicació i Esdeveniments a Madrid
DESCRIPTION:strong>Programa_ dijous 23 maig\n \n09.00   Inauguració oficial.\n09.30   Conferència inaugural 1. "Esdeveniments d’última generació". Luci Angulo\, directora\nGeneral de Shackleton\, responsable de comptes com Coca Cola\, NIVEA\, Loteries i Apostes de l’Estat\, Carrefour\, Carrefour.es\, CEPSA\, PayPal\, Cervesa Desperados (Heineken)\, Fundació ONCE\, Laboratoris Alter\, Philip Morris Internacional.\n10.15   Col · loqui.\n10.30      Descans Cafè.\n11.00   Conferència inaugural 2. "El periodisme radiofònic d’informació i entreteniment\nfora de l’estudi: la comunicació directa periodística en format d’esdeveniment ". Pepa Fernández\, directora del programa "No és un dia qualsevol" de Ràdio Nacional d’Espanya.\n11.45   Col·loqui.\n12.00   Conferència inaugural 3: "Els necessaris canvis en el cerimonial d’Estat i en les\nrelacions diplomàtiques. El Protocol davant la Comunicació ". Carlos Font. Director del Institut Universitari de Protocol de la UCJC\, vicepresident primer de l’Associació\nEspanyola de Protocol i director de Protocol dels Premis Príncep d’Astúries.\n12.30      Taula 1: El dret de la informació en el sector els esdeveniments. Drets d’\nexclusivitat i exigències del patrocini. Modera Max Romer\, doctor en Comunicació i\nprofessor de Dret de la Informació i de la Comunicació de la Universitat Camilo José\nCela.\nParticipants:\n·    Alicia G. Montano\, redactora del programa "En Portada"\, i directora d’Informe Semanal de RTVE.\n·    Pedro Blanco\, redactor del programa Hora 25 de la Cadena SER.\n·    Javier Montemayor\, realitzador de televisió.\n·    Natalia Meneu\, cap de Protocol i Relacions Institucionals del Circuit de la Comunitat\nValenciana Ricardo Tormo.\n·    Fernando Fernández\, excap de Protocol de la Vicepresidència primera del Govern.\n·    Elisabeth Igartua\, directora general de "El Ser Creativo"\n·    Pilar Soriano\, directora de producció i acciones especials d’AEGIS.Media Grup Carat / /Posterscope ACT.\n14.15   Fi de les sessions del matí.\n15.30     Comunicacions lliures.\n18.30   Ponència: "La Realitat Augmentada i la seva aplicació en el món dels esdeveniments". Marc Judor\, Managing Director Ergo Sum (French Digital Media Agency)\n&nbsp
URL:https://acpri.cat/event/i-congres-universitari-de-protocol-comunicacio-i-esdeveniments-a-madrid-2/
CATEGORIES:Activitats ACPRI
ATTACH;FMTTYPE=image/jpeg:https://acpri.cat/wp-content/uploads/2018/09/activitats172.jpg
ORGANIZER;CN="Activitats ACPRI":MAILTO:acpri@acpri.cat
END:VEVENT
BEGIN:VEVENT
DTSTART;TZID=Europe/Madrid:20130524T090000
DTEND;TZID=Europe/Madrid:20130524T110000
DTSTAMP:20260425T054613
CREATED:20130524T070000Z
LAST-MODIFIED:20210316T142135Z
UID:18084-1369386000-1369393200@acpri.cat
SUMMARY:I Congres Universitari de Protocol\, Comunicació i Esdeveniments a Madrid
DESCRIPTION:strong>Programa_ divendres\, 24 maig\n \n09.00   Taula 2: "La Seguretat en esdeveniments oficials i empresarials i macro-culturals\, esportius i d’entreteniment". Modera: Javier Chivite\, director del Grau de Periodisme de la Universitat Camilo José Cela.\nParticipants:\n• Julio Andrade Ruiz\, tinent d’alcalde i director de l’àrea de Govern de Seguretat i Relacions Institucionals internacionals de l’Ajuntament de Màlaga i vicepresident de la Comissió de Seguretat i convivència ciutadana de la Federació Espanyola de Municipis i Províncies (FEMP).\n• José Ignacio Olmos Casado\, Director de Seguretat JP Morgan.\n• Miguel González\, coordinador de l’equip de seguretat del Festival Arenal Sound\n• Salvador Tremps\, coordinador tècnic del Grup Gestió i Serveis Mèdics (GESEME)\n10.30   Descans. Cafè.\n11.00   Taula 3: "El nou concepte en els esdeveniments. Innovació\, Creativitat\, Business i l’aposta per noves fórmules de Màrqueting i Comunicació ". Modera: Eva García Montero\, director del Grau de Publicitat i Relacions Públiques.\nParticipants convidats:\n• Eric Mottard\, CEO Grup Esdeveniment Plus\n• Javier Lapresa\, director de planificació estratègica i director de producció de Quum Comunicació\n• Dario Regattieri\, CEO de l’agència Eventísimo.\n• Responsable de l’agència La5e.\n13.15   Taula 4: "La gastronomia i el càtering i la seva escenografia al servei de la Comunicació". Moderadora Glòria Camps\, directora general de l’Institut Superior de Protocol i Esdeveniments (ISPE).\n14.30   Fi de les sessions del matí.\n15.30   Comunicacions lliures.\n17:30   Ponència: Esdeveniments i xarxes socials. Bàrbara Yuste\, cap de Premsa i Mitjans Socials de la UCJC\n18.00   Taula de cloenda: "Periodistes\, polítics i ciutadans contra el Protocol? La cerimònia de la confusió".\nModera: Pere Zuazua Gil\, director de Comunicació de Prisa Notícies i d’El País.\n• Belén García\, directora del programa Espejo Público.\n• Isaías Lafuente Zorrilla\, periodista\, escriptor i responsable de la Unitat de Vigilància Lingüística de la Cadena Ser\n• Ignacio Arango\, responsable de protocol de l’Alcaldia de Siero (Principat d’Astúries) i coordinador del moviment nacional virtual Queremosorganizareventos (QoE).\n• Pilar Fernández Olivencia\, cap de Protocol del Ministeri d’Hisenda i Administracions Públiques.\n• Juan Ángel Gato\, president de l’Associació Espanyola de Protocol (AEP).\n• Josep Solà\, president de l’Associació Catalana de Protocol i Relacions Institucionals (ACPRI) i cap de Protocol de l’Ajuntament de Terrassa. \n19.30   Sessió de cloenda. Tancament del Congrés.
URL:https://acpri.cat/event/i-congres-universitari-de-protocol-comunicacio-i-esdeveniments-a-madrid/
CATEGORIES:Activitats ACPRI
ATTACH;FMTTYPE=image/jpeg:https://acpri.cat/wp-content/uploads/2018/09/activitats173.jpg
ORGANIZER;CN="Activitats ACPRI":MAILTO:acpri@acpri.cat
END:VEVENT
BEGIN:VEVENT
DTSTART;TZID=Europe/Madrid:20130528T123000
DTEND;TZID=Europe/Madrid:20130528T143000
DTSTAMP:20260425T054613
CREATED:20130528T103000Z
LAST-MODIFIED:20210316T142135Z
UID:18082-1369744200-1369751400@acpri.cat
SUMMARY:ACPRI a ETV: Protocol esportiu
DESCRIPTION:Emissió de l’espai que ACPRI realitza al programa RODA MÓN a ETV (Esplugues Televisió) cada quinze dies. \nSecció coordinada per la responsable d’empresa de l’associació\, la Jacqueline Ruiz\, qui el presenta amb el conductor del programa\, Toni Guerrero. \nCada programa és dedicat a un tema determinat\, d’interès per als professionals. \nEl programa d’avui està dedicat al Protocol Esportiu a càrrec de Jordi Sans.
URL:https://acpri.cat/event/acpri-a-etv-protocol-esportiu/
CATEGORIES:Activitats ACPRI
ATTACH;FMTTYPE=image/jpeg:https://acpri.cat/wp-content/uploads/2018/09/activitats168.jpg
ORGANIZER;CN="Activitats ACPRI":MAILTO:acpri@acpri.cat
END:VEVENT
END:VCALENDAR